BEGIN:VCALENDAR
VERSION:2.0
PRODID:-//riddim Mag - ECPv6.15.20//NONSGML v1.0//EN
CALSCALE:GREGORIAN
METHOD:PUBLISH
X-ORIGINAL-URL:https://riddim.world
X-WR-CALDESC:Events for riddim Mag
REFRESH-INTERVAL;VALUE=DURATION:PT1H
X-Robots-Tag:noindex
X-PUBLISHED-TTL:PT1H
BEGIN:VTIMEZONE
TZID:Europe/Berlin
BEGIN:DAYLIGHT
TZOFFSETFROM:+0100
TZOFFSETTO:+0200
TZNAME:CEST
DTSTART:20280326T010000
END:DAYLIGHT
BEGIN:STANDARD
TZOFFSETFROM:+0200
TZOFFSETTO:+0100
TZNAME:CET
DTSTART:20281029T010000
END:STANDARD
BEGIN:DAYLIGHT
TZOFFSETFROM:+0100
TZOFFSETTO:+0200
TZNAME:CEST
DTSTART:20290325T010000
END:DAYLIGHT
BEGIN:STANDARD
TZOFFSETFROM:+0200
TZOFFSETTO:+0100
TZNAME:CET
DTSTART:20291028T010000
END:STANDARD
BEGIN:DAYLIGHT
TZOFFSETFROM:+0100
TZOFFSETTO:+0200
TZNAME:CEST
DTSTART:20300331T010000
END:DAYLIGHT
BEGIN:STANDARD
TZOFFSETFROM:+0200
TZOFFSETTO:+0100
TZNAME:CET
DTSTART:20301027T010000
END:STANDARD
BEGIN:DAYLIGHT
TZOFFSETFROM:+0100
TZOFFSETTO:+0200
TZNAME:CEST
DTSTART:20310330T010000
END:DAYLIGHT
BEGIN:STANDARD
TZOFFSETFROM:+0200
TZOFFSETTO:+0100
TZNAME:CET
DTSTART:20311026T010000
END:STANDARD
END:VTIMEZONE
BEGIN:VEVENT
DTSTART;TZID=Europe/Berlin:20291014T170000
DTEND;TZID=Europe/Berlin:20291014T235900
DTSTAMP:20260421T124801
CREATED:20260420T150558Z
LAST-MODIFIED:20260420T150558Z
UID:10000407-1886691600-1886716740@riddim.world
SUMMARY:Kingston Dub Club
DESCRIPTION:Rock Your Soul! Strict­ly Roots! \nEvery sun­day: 5pm — 12 am
URL:https://riddim.world/event/kingston-dub-club/2029-10-14/
LOCATION:Kingston Dub Club\, 7b Skyline Drive\, Kingston\, Kingston 6\, Jamaica
CATEGORIES:Party
ATTACH;FMTTYPE=image/jpeg:https://riddim.world/wp-content/uploads/2026/04/dub-club-real_AH_405DA543-BBB9-3ECB-7B1A546A3C89C2E6-405da4ca0d5d25c_405da7f5-a6af-cfa0-4bf0ddb12c04a735.jpg
END:VEVENT
BEGIN:VEVENT
DTSTART;TZID=Europe/Berlin:20291021T170000
DTEND;TZID=Europe/Berlin:20291021T235900
DTSTAMP:20260421T124802
CREATED:20260420T150558Z
LAST-MODIFIED:20260420T150558Z
UID:10000408-1887296400-1887321540@riddim.world
SUMMARY:Kingston Dub Club
DESCRIPTION:Rock Your Soul! Strict­ly Roots! \nEvery sun­day: 5pm — 12 am
URL:https://riddim.world/event/kingston-dub-club/2029-10-21/
LOCATION:Kingston Dub Club\, 7b Skyline Drive\, Kingston\, Kingston 6\, Jamaica
CATEGORIES:Party
ATTACH;FMTTYPE=image/jpeg:https://riddim.world/wp-content/uploads/2026/04/dub-club-real_AH_405DA543-BBB9-3ECB-7B1A546A3C89C2E6-405da4ca0d5d25c_405da7f5-a6af-cfa0-4bf0ddb12c04a735.jpg
END:VEVENT
BEGIN:VEVENT
DTSTART;TZID=Europe/Berlin:20291027T230000
DTEND;TZID=Europe/Berlin:20291028T040000
DTSTAMP:20260421T124802
CREATED:20260417T084937Z
LAST-MODIFIED:20260417T085741Z
UID:10000149-1887836400-1887854400@riddim.world
SUMMARY:ONE - Dancehall x HipHop x Afrobeats @Cologne
DESCRIPTION:🌍 HIPHOP x DANCEHALL x AFROBEATS\n6 Years. One night. One fam­i­ly. 💥 #weare­one \n💃🏾 Start: 23:00 Uhr\n🎟️ Tick­ets: 10 € (VVK) | 12 € (AK)\n📍 Club Sub­way\, Aach­en­er Str. 82–84\, Köln \nLat­est updates: one.cgn (IG) \nFor over six years\, ONE has been bring­ing the hottest vibes from Dance­hall\, Afrobeats\, and HipHop to Club Sub­way.\nWhether it’s dances in the Jamaican yards or block par­ties in New York\, both share the same essence: com­mu­ni­ty\, pas­sion\, and music. \nOver time\, HipHop has become a dom­i­nant genre\, yet its roots are deeply inspired by Jamaica and its cul­ture. That’s why it only makes sense to bring them togeth­er on one par­ty floor:\nTwo styles that con­tin­u­ous­ly influ­ence each oth­er – yet remain one. \n💬 GIVE RESPECT\, GET RESPECT.\n🚫 No place for sex­ism\, racism\, vio­lence & hate. \n#ONEVibes #HipHop­Dance­hal­lAfrobeats #Colog­neNights #Sub­way­Cologne #Dance­hall­Cul­ture #Afrobeat­sToThe­World #HipHo­pLovers #Good­VibesOn­ly #CologneEvents #PartyAlert
URL:https://riddim.world/event/one-dancehall-x-hiphop-x-afrobeats-cologne/2029-10-27/
LOCATION:Club Subway\, Aachener Straße 82-84\, Cologne\, Germany
CATEGORIES:Party
ATTACH;FMTTYPE=image/png:https://riddim.world/wp-content/uploads/2026/04/Screenshot-2026-04-17-104428.png
END:VEVENT
BEGIN:VEVENT
DTSTART;TZID=Europe/Berlin:20291028T170000
DTEND;TZID=Europe/Berlin:20291028T235900
DTSTAMP:20260421T124802
CREATED:20260420T150558Z
LAST-MODIFIED:20260420T150558Z
UID:10000409-1887901200-1887926340@riddim.world
SUMMARY:Kingston Dub Club
DESCRIPTION:Rock Your Soul! Strict­ly Roots! \nEvery sun­day: 5pm — 12 am
URL:https://riddim.world/event/kingston-dub-club/2029-10-28/
LOCATION:Kingston Dub Club\, 7b Skyline Drive\, Kingston\, Kingston 6\, Jamaica
CATEGORIES:Party
ATTACH;FMTTYPE=image/jpeg:https://riddim.world/wp-content/uploads/2026/04/dub-club-real_AH_405DA543-BBB9-3ECB-7B1A546A3C89C2E6-405da4ca0d5d25c_405da7f5-a6af-cfa0-4bf0ddb12c04a735.jpg
END:VEVENT
BEGIN:VEVENT
DTSTART;TZID=Europe/Berlin:20291104T170000
DTEND;TZID=Europe/Berlin:20291104T235900
DTSTAMP:20260421T124802
CREATED:20260420T150558Z
LAST-MODIFIED:20260420T150558Z
UID:10000410-1888506000-1888531140@riddim.world
SUMMARY:Kingston Dub Club
DESCRIPTION:Rock Your Soul! Strict­ly Roots! \nEvery sun­day: 5pm — 12 am
URL:https://riddim.world/event/kingston-dub-club/2029-11-04/
LOCATION:Kingston Dub Club\, 7b Skyline Drive\, Kingston\, Kingston 6\, Jamaica
CATEGORIES:Party
ATTACH;FMTTYPE=image/jpeg:https://riddim.world/wp-content/uploads/2026/04/dub-club-real_AH_405DA543-BBB9-3ECB-7B1A546A3C89C2E6-405da4ca0d5d25c_405da7f5-a6af-cfa0-4bf0ddb12c04a735.jpg
END:VEVENT
BEGIN:VEVENT
DTSTART;TZID=Europe/Berlin:20291111T170000
DTEND;TZID=Europe/Berlin:20291111T235900
DTSTAMP:20260421T124802
CREATED:20260420T150558Z
LAST-MODIFIED:20260420T150558Z
UID:10000411-1889110800-1889135940@riddim.world
SUMMARY:Kingston Dub Club
DESCRIPTION:Rock Your Soul! Strict­ly Roots! \nEvery sun­day: 5pm — 12 am
URL:https://riddim.world/event/kingston-dub-club/2029-11-11/
LOCATION:Kingston Dub Club\, 7b Skyline Drive\, Kingston\, Kingston 6\, Jamaica
CATEGORIES:Party
ATTACH;FMTTYPE=image/jpeg:https://riddim.world/wp-content/uploads/2026/04/dub-club-real_AH_405DA543-BBB9-3ECB-7B1A546A3C89C2E6-405da4ca0d5d25c_405da7f5-a6af-cfa0-4bf0ddb12c04a735.jpg
END:VEVENT
BEGIN:VEVENT
DTSTART;TZID=Europe/Berlin:20291118T170000
DTEND;TZID=Europe/Berlin:20291118T235900
DTSTAMP:20260421T124802
CREATED:20260420T150558Z
LAST-MODIFIED:20260420T150558Z
UID:10000412-1889715600-1889740740@riddim.world
SUMMARY:Kingston Dub Club
DESCRIPTION:Rock Your Soul! Strict­ly Roots! \nEvery sun­day: 5pm — 12 am
URL:https://riddim.world/event/kingston-dub-club/2029-11-18/
LOCATION:Kingston Dub Club\, 7b Skyline Drive\, Kingston\, Kingston 6\, Jamaica
CATEGORIES:Party
ATTACH;FMTTYPE=image/jpeg:https://riddim.world/wp-content/uploads/2026/04/dub-club-real_AH_405DA543-BBB9-3ECB-7B1A546A3C89C2E6-405da4ca0d5d25c_405da7f5-a6af-cfa0-4bf0ddb12c04a735.jpg
END:VEVENT
BEGIN:VEVENT
DTSTART;TZID=Europe/Berlin:20291124T230000
DTEND;TZID=Europe/Berlin:20291125T050000
DTSTAMP:20260421T124802
CREATED:20260417T084937Z
LAST-MODIFIED:20260417T085741Z
UID:10000150-1890255600-1890277200@riddim.world
SUMMARY:ONE - Dancehall x HipHop x Afrobeats @Cologne
DESCRIPTION:🌍 HIPHOP x DANCEHALL x AFROBEATS\n6 Years. One night. One fam­i­ly. 💥 #weare­one \n💃🏾 Start: 23:00 Uhr\n🎟️ Tick­ets: 10 € (VVK) | 12 € (AK)\n📍 Club Sub­way\, Aach­en­er Str. 82–84\, Köln \nLat­est updates: one.cgn (IG) \nFor over six years\, ONE has been bring­ing the hottest vibes from Dance­hall\, Afrobeats\, and HipHop to Club Sub­way.\nWhether it’s dances in the Jamaican yards or block par­ties in New York\, both share the same essence: com­mu­ni­ty\, pas­sion\, and music. \nOver time\, HipHop has become a dom­i­nant genre\, yet its roots are deeply inspired by Jamaica and its cul­ture. That’s why it only makes sense to bring them togeth­er on one par­ty floor:\nTwo styles that con­tin­u­ous­ly influ­ence each oth­er – yet remain one. \n💬 GIVE RESPECT\, GET RESPECT.\n🚫 No place for sex­ism\, racism\, vio­lence & hate. \n#ONEVibes #HipHop­Dance­hal­lAfrobeats #Colog­neNights #Sub­way­Cologne #Dance­hall­Cul­ture #Afrobeat­sToThe­World #HipHo­pLovers #Good­VibesOn­ly #CologneEvents #PartyAlert
URL:https://riddim.world/event/one-dancehall-x-hiphop-x-afrobeats-cologne/2029-11-24/
LOCATION:Club Subway\, Aachener Straße 82-84\, Cologne\, Germany
CATEGORIES:Party
ATTACH;FMTTYPE=image/png:https://riddim.world/wp-content/uploads/2026/04/Screenshot-2026-04-17-104428.png
END:VEVENT
BEGIN:VEVENT
DTSTART;TZID=Europe/Berlin:20291125T170000
DTEND;TZID=Europe/Berlin:20291125T235900
DTSTAMP:20260421T124802
CREATED:20260420T150558Z
LAST-MODIFIED:20260420T150558Z
UID:10000413-1890320400-1890345540@riddim.world
SUMMARY:Kingston Dub Club
DESCRIPTION:Rock Your Soul! Strict­ly Roots! \nEvery sun­day: 5pm — 12 am
URL:https://riddim.world/event/kingston-dub-club/2029-11-25/
LOCATION:Kingston Dub Club\, 7b Skyline Drive\, Kingston\, Kingston 6\, Jamaica
CATEGORIES:Party
ATTACH;FMTTYPE=image/jpeg:https://riddim.world/wp-content/uploads/2026/04/dub-club-real_AH_405DA543-BBB9-3ECB-7B1A546A3C89C2E6-405da4ca0d5d25c_405da7f5-a6af-cfa0-4bf0ddb12c04a735.jpg
END:VEVENT
BEGIN:VEVENT
DTSTART;TZID=Europe/Berlin:20291202T170000
DTEND;TZID=Europe/Berlin:20291202T235900
DTSTAMP:20260421T124802
CREATED:20260420T150558Z
LAST-MODIFIED:20260420T150558Z
UID:10000414-1890925200-1890950340@riddim.world
SUMMARY:Kingston Dub Club
DESCRIPTION:Rock Your Soul! Strict­ly Roots! \nEvery sun­day: 5pm — 12 am
URL:https://riddim.world/event/kingston-dub-club/2029-12-02/
LOCATION:Kingston Dub Club\, 7b Skyline Drive\, Kingston\, Kingston 6\, Jamaica
CATEGORIES:Party
ATTACH;FMTTYPE=image/jpeg:https://riddim.world/wp-content/uploads/2026/04/dub-club-real_AH_405DA543-BBB9-3ECB-7B1A546A3C89C2E6-405da4ca0d5d25c_405da7f5-a6af-cfa0-4bf0ddb12c04a735.jpg
END:VEVENT
BEGIN:VEVENT
DTSTART;TZID=Europe/Berlin:20291209T170000
DTEND;TZID=Europe/Berlin:20291209T235900
DTSTAMP:20260421T124802
CREATED:20260420T150558Z
LAST-MODIFIED:20260420T150558Z
UID:10000415-1891530000-1891555140@riddim.world
SUMMARY:Kingston Dub Club
DESCRIPTION:Rock Your Soul! Strict­ly Roots! \nEvery sun­day: 5pm — 12 am
URL:https://riddim.world/event/kingston-dub-club/2029-12-09/
LOCATION:Kingston Dub Club\, 7b Skyline Drive\, Kingston\, Kingston 6\, Jamaica
CATEGORIES:Party
ATTACH;FMTTYPE=image/jpeg:https://riddim.world/wp-content/uploads/2026/04/dub-club-real_AH_405DA543-BBB9-3ECB-7B1A546A3C89C2E6-405da4ca0d5d25c_405da7f5-a6af-cfa0-4bf0ddb12c04a735.jpg
END:VEVENT
BEGIN:VEVENT
DTSTART;TZID=Europe/Berlin:20291216T170000
DTEND;TZID=Europe/Berlin:20291216T235900
DTSTAMP:20260421T124802
CREATED:20260420T150558Z
LAST-MODIFIED:20260420T150558Z
UID:10000416-1892134800-1892159940@riddim.world
SUMMARY:Kingston Dub Club
DESCRIPTION:Rock Your Soul! Strict­ly Roots! \nEvery sun­day: 5pm — 12 am
URL:https://riddim.world/event/kingston-dub-club/2029-12-16/
LOCATION:Kingston Dub Club\, 7b Skyline Drive\, Kingston\, Kingston 6\, Jamaica
CATEGORIES:Party
ATTACH;FMTTYPE=image/jpeg:https://riddim.world/wp-content/uploads/2026/04/dub-club-real_AH_405DA543-BBB9-3ECB-7B1A546A3C89C2E6-405da4ca0d5d25c_405da7f5-a6af-cfa0-4bf0ddb12c04a735.jpg
END:VEVENT
BEGIN:VEVENT
DTSTART;TZID=Europe/Berlin:20291222T230000
DTEND;TZID=Europe/Berlin:20291223T050000
DTSTAMP:20260421T124802
CREATED:20260417T084937Z
LAST-MODIFIED:20260417T085741Z
UID:10000151-1892674800-1892696400@riddim.world
SUMMARY:ONE - Dancehall x HipHop x Afrobeats @Cologne
DESCRIPTION:🌍 HIPHOP x DANCEHALL x AFROBEATS\n6 Years. One night. One fam­i­ly. 💥 #weare­one \n💃🏾 Start: 23:00 Uhr\n🎟️ Tick­ets: 10 € (VVK) | 12 € (AK)\n📍 Club Sub­way\, Aach­en­er Str. 82–84\, Köln \nLat­est updates: one.cgn (IG) \nFor over six years\, ONE has been bring­ing the hottest vibes from Dance­hall\, Afrobeats\, and HipHop to Club Sub­way.\nWhether it’s dances in the Jamaican yards or block par­ties in New York\, both share the same essence: com­mu­ni­ty\, pas­sion\, and music. \nOver time\, HipHop has become a dom­i­nant genre\, yet its roots are deeply inspired by Jamaica and its cul­ture. That’s why it only makes sense to bring them togeth­er on one par­ty floor:\nTwo styles that con­tin­u­ous­ly influ­ence each oth­er – yet remain one. \n💬 GIVE RESPECT\, GET RESPECT.\n🚫 No place for sex­ism\, racism\, vio­lence & hate. \n#ONEVibes #HipHop­Dance­hal­lAfrobeats #Colog­neNights #Sub­way­Cologne #Dance­hall­Cul­ture #Afrobeat­sToThe­World #HipHo­pLovers #Good­VibesOn­ly #CologneEvents #PartyAlert
URL:https://riddim.world/event/one-dancehall-x-hiphop-x-afrobeats-cologne/2029-12-22/
LOCATION:Club Subway\, Aachener Straße 82-84\, Cologne\, Germany
CATEGORIES:Party
ATTACH;FMTTYPE=image/png:https://riddim.world/wp-content/uploads/2026/04/Screenshot-2026-04-17-104428.png
END:VEVENT
BEGIN:VEVENT
DTSTART;TZID=Europe/Berlin:20291223T170000
DTEND;TZID=Europe/Berlin:20291223T235900
DTSTAMP:20260421T124802
CREATED:20260420T150558Z
LAST-MODIFIED:20260420T150558Z
UID:10000417-1892739600-1892764740@riddim.world
SUMMARY:Kingston Dub Club
DESCRIPTION:Rock Your Soul! Strict­ly Roots! \nEvery sun­day: 5pm — 12 am
URL:https://riddim.world/event/kingston-dub-club/2029-12-23/
LOCATION:Kingston Dub Club\, 7b Skyline Drive\, Kingston\, Kingston 6\, Jamaica
CATEGORIES:Party
ATTACH;FMTTYPE=image/jpeg:https://riddim.world/wp-content/uploads/2026/04/dub-club-real_AH_405DA543-BBB9-3ECB-7B1A546A3C89C2E6-405da4ca0d5d25c_405da7f5-a6af-cfa0-4bf0ddb12c04a735.jpg
END:VEVENT
BEGIN:VEVENT
DTSTART;TZID=Europe/Berlin:20291230T170000
DTEND;TZID=Europe/Berlin:20291230T235900
DTSTAMP:20260421T124802
CREATED:20260420T150558Z
LAST-MODIFIED:20260420T150558Z
UID:10000418-1893344400-1893369540@riddim.world
SUMMARY:Kingston Dub Club
DESCRIPTION:Rock Your Soul! Strict­ly Roots! \nEvery sun­day: 5pm — 12 am
URL:https://riddim.world/event/kingston-dub-club/2029-12-30/
LOCATION:Kingston Dub Club\, 7b Skyline Drive\, Kingston\, Kingston 6\, Jamaica
CATEGORIES:Party
ATTACH;FMTTYPE=image/jpeg:https://riddim.world/wp-content/uploads/2026/04/dub-club-real_AH_405DA543-BBB9-3ECB-7B1A546A3C89C2E6-405da4ca0d5d25c_405da7f5-a6af-cfa0-4bf0ddb12c04a735.jpg
END:VEVENT
BEGIN:VEVENT
DTSTART;TZID=Europe/Berlin:20300106T170000
DTEND;TZID=Europe/Berlin:20300106T235900
DTSTAMP:20260421T124802
CREATED:20260420T150558Z
LAST-MODIFIED:20260420T150558Z
UID:10000419-1893949200-1893974340@riddim.world
SUMMARY:Kingston Dub Club
DESCRIPTION:Rock Your Soul! Strict­ly Roots! \nEvery sun­day: 5pm — 12 am
URL:https://riddim.world/event/kingston-dub-club/2030-01-06/
LOCATION:Kingston Dub Club\, 7b Skyline Drive\, Kingston\, Kingston 6\, Jamaica
CATEGORIES:Party
ATTACH;FMTTYPE=image/jpeg:https://riddim.world/wp-content/uploads/2026/04/dub-club-real_AH_405DA543-BBB9-3ECB-7B1A546A3C89C2E6-405da4ca0d5d25c_405da7f5-a6af-cfa0-4bf0ddb12c04a735.jpg
END:VEVENT
BEGIN:VEVENT
DTSTART;TZID=Europe/Berlin:20300113T170000
DTEND;TZID=Europe/Berlin:20300113T235900
DTSTAMP:20260421T124802
CREATED:20260420T150558Z
LAST-MODIFIED:20260420T150558Z
UID:10000420-1894554000-1894579140@riddim.world
SUMMARY:Kingston Dub Club
DESCRIPTION:Rock Your Soul! Strict­ly Roots! \nEvery sun­day: 5pm — 12 am
URL:https://riddim.world/event/kingston-dub-club/2030-01-13/
LOCATION:Kingston Dub Club\, 7b Skyline Drive\, Kingston\, Kingston 6\, Jamaica
CATEGORIES:Party
ATTACH;FMTTYPE=image/jpeg:https://riddim.world/wp-content/uploads/2026/04/dub-club-real_AH_405DA543-BBB9-3ECB-7B1A546A3C89C2E6-405da4ca0d5d25c_405da7f5-a6af-cfa0-4bf0ddb12c04a735.jpg
END:VEVENT
BEGIN:VEVENT
DTSTART;TZID=Europe/Berlin:20300120T170000
DTEND;TZID=Europe/Berlin:20300120T235900
DTSTAMP:20260421T124802
CREATED:20260420T150558Z
LAST-MODIFIED:20260420T150558Z
UID:10000421-1895158800-1895183940@riddim.world
SUMMARY:Kingston Dub Club
DESCRIPTION:Rock Your Soul! Strict­ly Roots! \nEvery sun­day: 5pm — 12 am
URL:https://riddim.world/event/kingston-dub-club/2030-01-20/
LOCATION:Kingston Dub Club\, 7b Skyline Drive\, Kingston\, Kingston 6\, Jamaica
CATEGORIES:Party
ATTACH;FMTTYPE=image/jpeg:https://riddim.world/wp-content/uploads/2026/04/dub-club-real_AH_405DA543-BBB9-3ECB-7B1A546A3C89C2E6-405da4ca0d5d25c_405da7f5-a6af-cfa0-4bf0ddb12c04a735.jpg
END:VEVENT
BEGIN:VEVENT
DTSTART;TZID=Europe/Berlin:20300126T230000
DTEND;TZID=Europe/Berlin:20300127T050000
DTSTAMP:20260421T124802
CREATED:20260417T084937Z
LAST-MODIFIED:20260417T085741Z
UID:10000152-1895698800-1895720400@riddim.world
SUMMARY:ONE - Dancehall x HipHop x Afrobeats @Cologne
DESCRIPTION:🌍 HIPHOP x DANCEHALL x AFROBEATS\n6 Years. One night. One fam­i­ly. 💥 #weare­one \n💃🏾 Start: 23:00 Uhr\n🎟️ Tick­ets: 10 € (VVK) | 12 € (AK)\n📍 Club Sub­way\, Aach­en­er Str. 82–84\, Köln \nLat­est updates: one.cgn (IG) \nFor over six years\, ONE has been bring­ing the hottest vibes from Dance­hall\, Afrobeats\, and HipHop to Club Sub­way.\nWhether it’s dances in the Jamaican yards or block par­ties in New York\, both share the same essence: com­mu­ni­ty\, pas­sion\, and music. \nOver time\, HipHop has become a dom­i­nant genre\, yet its roots are deeply inspired by Jamaica and its cul­ture. That’s why it only makes sense to bring them togeth­er on one par­ty floor:\nTwo styles that con­tin­u­ous­ly influ­ence each oth­er – yet remain one. \n💬 GIVE RESPECT\, GET RESPECT.\n🚫 No place for sex­ism\, racism\, vio­lence & hate. \n#ONEVibes #HipHop­Dance­hal­lAfrobeats #Colog­neNights #Sub­way­Cologne #Dance­hall­Cul­ture #Afrobeat­sToThe­World #HipHo­pLovers #Good­VibesOn­ly #CologneEvents #PartyAlert
URL:https://riddim.world/event/one-dancehall-x-hiphop-x-afrobeats-cologne/2030-01-26/
LOCATION:Club Subway\, Aachener Straße 82-84\, Cologne\, Germany
CATEGORIES:Party
ATTACH;FMTTYPE=image/png:https://riddim.world/wp-content/uploads/2026/04/Screenshot-2026-04-17-104428.png
END:VEVENT
BEGIN:VEVENT
DTSTART;TZID=Europe/Berlin:20300127T170000
DTEND;TZID=Europe/Berlin:20300127T235900
DTSTAMP:20260421T124802
CREATED:20260420T150558Z
LAST-MODIFIED:20260420T150558Z
UID:10000422-1895763600-1895788740@riddim.world
SUMMARY:Kingston Dub Club
DESCRIPTION:Rock Your Soul! Strict­ly Roots! \nEvery sun­day: 5pm — 12 am
URL:https://riddim.world/event/kingston-dub-club/2030-01-27/
LOCATION:Kingston Dub Club\, 7b Skyline Drive\, Kingston\, Kingston 6\, Jamaica
CATEGORIES:Party
ATTACH;FMTTYPE=image/jpeg:https://riddim.world/wp-content/uploads/2026/04/dub-club-real_AH_405DA543-BBB9-3ECB-7B1A546A3C89C2E6-405da4ca0d5d25c_405da7f5-a6af-cfa0-4bf0ddb12c04a735.jpg
END:VEVENT
BEGIN:VEVENT
DTSTART;TZID=Europe/Berlin:20300203T170000
DTEND;TZID=Europe/Berlin:20300203T235900
DTSTAMP:20260421T124802
CREATED:20260420T150558Z
LAST-MODIFIED:20260420T150558Z
UID:10000423-1896368400-1896393540@riddim.world
SUMMARY:Kingston Dub Club
DESCRIPTION:Rock Your Soul! Strict­ly Roots! \nEvery sun­day: 5pm — 12 am
URL:https://riddim.world/event/kingston-dub-club/2030-02-03/
LOCATION:Kingston Dub Club\, 7b Skyline Drive\, Kingston\, Kingston 6\, Jamaica
CATEGORIES:Party
ATTACH;FMTTYPE=image/jpeg:https://riddim.world/wp-content/uploads/2026/04/dub-club-real_AH_405DA543-BBB9-3ECB-7B1A546A3C89C2E6-405da4ca0d5d25c_405da7f5-a6af-cfa0-4bf0ddb12c04a735.jpg
END:VEVENT
BEGIN:VEVENT
DTSTART;TZID=Europe/Berlin:20300210T170000
DTEND;TZID=Europe/Berlin:20300210T235900
DTSTAMP:20260421T124802
CREATED:20260420T150558Z
LAST-MODIFIED:20260420T150558Z
UID:10000424-1896973200-1896998340@riddim.world
SUMMARY:Kingston Dub Club
DESCRIPTION:Rock Your Soul! Strict­ly Roots! \nEvery sun­day: 5pm — 12 am
URL:https://riddim.world/event/kingston-dub-club/2030-02-10/
LOCATION:Kingston Dub Club\, 7b Skyline Drive\, Kingston\, Kingston 6\, Jamaica
CATEGORIES:Party
ATTACH;FMTTYPE=image/jpeg:https://riddim.world/wp-content/uploads/2026/04/dub-club-real_AH_405DA543-BBB9-3ECB-7B1A546A3C89C2E6-405da4ca0d5d25c_405da7f5-a6af-cfa0-4bf0ddb12c04a735.jpg
END:VEVENT
BEGIN:VEVENT
DTSTART;TZID=Europe/Berlin:20300217T170000
DTEND;TZID=Europe/Berlin:20300217T235900
DTSTAMP:20260421T124802
CREATED:20260420T150558Z
LAST-MODIFIED:20260420T150558Z
UID:10000425-1897578000-1897603140@riddim.world
SUMMARY:Kingston Dub Club
DESCRIPTION:Rock Your Soul! Strict­ly Roots! \nEvery sun­day: 5pm — 12 am
URL:https://riddim.world/event/kingston-dub-club/2030-02-17/
LOCATION:Kingston Dub Club\, 7b Skyline Drive\, Kingston\, Kingston 6\, Jamaica
CATEGORIES:Party
ATTACH;FMTTYPE=image/jpeg:https://riddim.world/wp-content/uploads/2026/04/dub-club-real_AH_405DA543-BBB9-3ECB-7B1A546A3C89C2E6-405da4ca0d5d25c_405da7f5-a6af-cfa0-4bf0ddb12c04a735.jpg
END:VEVENT
BEGIN:VEVENT
DTSTART;TZID=Europe/Berlin:20300223T230000
DTEND;TZID=Europe/Berlin:20300224T050000
DTSTAMP:20260421T124802
CREATED:20260417T084937Z
LAST-MODIFIED:20260417T085741Z
UID:10000153-1898118000-1898139600@riddim.world
SUMMARY:ONE - Dancehall x HipHop x Afrobeats @Cologne
DESCRIPTION:🌍 HIPHOP x DANCEHALL x AFROBEATS\n6 Years. One night. One fam­i­ly. 💥 #weare­one \n💃🏾 Start: 23:00 Uhr\n🎟️ Tick­ets: 10 € (VVK) | 12 € (AK)\n📍 Club Sub­way\, Aach­en­er Str. 82–84\, Köln \nLat­est updates: one.cgn (IG) \nFor over six years\, ONE has been bring­ing the hottest vibes from Dance­hall\, Afrobeats\, and HipHop to Club Sub­way.\nWhether it’s dances in the Jamaican yards or block par­ties in New York\, both share the same essence: com­mu­ni­ty\, pas­sion\, and music. \nOver time\, HipHop has become a dom­i­nant genre\, yet its roots are deeply inspired by Jamaica and its cul­ture. That’s why it only makes sense to bring them togeth­er on one par­ty floor:\nTwo styles that con­tin­u­ous­ly influ­ence each oth­er – yet remain one. \n💬 GIVE RESPECT\, GET RESPECT.\n🚫 No place for sex­ism\, racism\, vio­lence & hate. \n#ONEVibes #HipHop­Dance­hal­lAfrobeats #Colog­neNights #Sub­way­Cologne #Dance­hall­Cul­ture #Afrobeat­sToThe­World #HipHo­pLovers #Good­VibesOn­ly #CologneEvents #PartyAlert
URL:https://riddim.world/event/one-dancehall-x-hiphop-x-afrobeats-cologne/2030-02-23/
LOCATION:Club Subway\, Aachener Straße 82-84\, Cologne\, Germany
CATEGORIES:Party
ATTACH;FMTTYPE=image/png:https://riddim.world/wp-content/uploads/2026/04/Screenshot-2026-04-17-104428.png
END:VEVENT
BEGIN:VEVENT
DTSTART;TZID=Europe/Berlin:20300224T170000
DTEND;TZID=Europe/Berlin:20300224T235900
DTSTAMP:20260421T124802
CREATED:20260420T150558Z
LAST-MODIFIED:20260420T150558Z
UID:10000426-1898182800-1898207940@riddim.world
SUMMARY:Kingston Dub Club
DESCRIPTION:Rock Your Soul! Strict­ly Roots! \nEvery sun­day: 5pm — 12 am
URL:https://riddim.world/event/kingston-dub-club/2030-02-24/
LOCATION:Kingston Dub Club\, 7b Skyline Drive\, Kingston\, Kingston 6\, Jamaica
CATEGORIES:Party
ATTACH;FMTTYPE=image/jpeg:https://riddim.world/wp-content/uploads/2026/04/dub-club-real_AH_405DA543-BBB9-3ECB-7B1A546A3C89C2E6-405da4ca0d5d25c_405da7f5-a6af-cfa0-4bf0ddb12c04a735.jpg
END:VEVENT
BEGIN:VEVENT
DTSTART;TZID=Europe/Berlin:20300303T170000
DTEND;TZID=Europe/Berlin:20300303T235900
DTSTAMP:20260421T124802
CREATED:20260420T150558Z
LAST-MODIFIED:20260420T150558Z
UID:10000427-1898787600-1898812740@riddim.world
SUMMARY:Kingston Dub Club
DESCRIPTION:Rock Your Soul! Strict­ly Roots! \nEvery sun­day: 5pm — 12 am
URL:https://riddim.world/event/kingston-dub-club/2030-03-03/
LOCATION:Kingston Dub Club\, 7b Skyline Drive\, Kingston\, Kingston 6\, Jamaica
CATEGORIES:Party
ATTACH;FMTTYPE=image/jpeg:https://riddim.world/wp-content/uploads/2026/04/dub-club-real_AH_405DA543-BBB9-3ECB-7B1A546A3C89C2E6-405da4ca0d5d25c_405da7f5-a6af-cfa0-4bf0ddb12c04a735.jpg
END:VEVENT
BEGIN:VEVENT
DTSTART;TZID=Europe/Berlin:20300310T170000
DTEND;TZID=Europe/Berlin:20300310T235900
DTSTAMP:20260421T124802
CREATED:20260420T150558Z
LAST-MODIFIED:20260420T150558Z
UID:10000428-1899392400-1899417540@riddim.world
SUMMARY:Kingston Dub Club
DESCRIPTION:Rock Your Soul! Strict­ly Roots! \nEvery sun­day: 5pm — 12 am
URL:https://riddim.world/event/kingston-dub-club/2030-03-10/
LOCATION:Kingston Dub Club\, 7b Skyline Drive\, Kingston\, Kingston 6\, Jamaica
CATEGORIES:Party
ATTACH;FMTTYPE=image/jpeg:https://riddim.world/wp-content/uploads/2026/04/dub-club-real_AH_405DA543-BBB9-3ECB-7B1A546A3C89C2E6-405da4ca0d5d25c_405da7f5-a6af-cfa0-4bf0ddb12c04a735.jpg
END:VEVENT
BEGIN:VEVENT
DTSTART;TZID=Europe/Berlin:20300317T170000
DTEND;TZID=Europe/Berlin:20300317T235900
DTSTAMP:20260421T124802
CREATED:20260420T150558Z
LAST-MODIFIED:20260420T150558Z
UID:10000429-1899997200-1900022340@riddim.world
SUMMARY:Kingston Dub Club
DESCRIPTION:Rock Your Soul! Strict­ly Roots! \nEvery sun­day: 5pm — 12 am
URL:https://riddim.world/event/kingston-dub-club/2030-03-17/
LOCATION:Kingston Dub Club\, 7b Skyline Drive\, Kingston\, Kingston 6\, Jamaica
CATEGORIES:Party
ATTACH;FMTTYPE=image/jpeg:https://riddim.world/wp-content/uploads/2026/04/dub-club-real_AH_405DA543-BBB9-3ECB-7B1A546A3C89C2E6-405da4ca0d5d25c_405da7f5-a6af-cfa0-4bf0ddb12c04a735.jpg
END:VEVENT
BEGIN:VEVENT
DTSTART;TZID=Europe/Berlin:20300323T230000
DTEND;TZID=Europe/Berlin:20300324T050000
DTSTAMP:20260421T124802
CREATED:20260417T084937Z
LAST-MODIFIED:20260417T085741Z
UID:10000154-1900537200-1900558800@riddim.world
SUMMARY:ONE - Dancehall x HipHop x Afrobeats @Cologne
DESCRIPTION:🌍 HIPHOP x DANCEHALL x AFROBEATS\n6 Years. One night. One fam­i­ly. 💥 #weare­one \n💃🏾 Start: 23:00 Uhr\n🎟️ Tick­ets: 10 € (VVK) | 12 € (AK)\n📍 Club Sub­way\, Aach­en­er Str. 82–84\, Köln \nLat­est updates: one.cgn (IG) \nFor over six years\, ONE has been bring­ing the hottest vibes from Dance­hall\, Afrobeats\, and HipHop to Club Sub­way.\nWhether it’s dances in the Jamaican yards or block par­ties in New York\, both share the same essence: com­mu­ni­ty\, pas­sion\, and music. \nOver time\, HipHop has become a dom­i­nant genre\, yet its roots are deeply inspired by Jamaica and its cul­ture. That’s why it only makes sense to bring them togeth­er on one par­ty floor:\nTwo styles that con­tin­u­ous­ly influ­ence each oth­er – yet remain one. \n💬 GIVE RESPECT\, GET RESPECT.\n🚫 No place for sex­ism\, racism\, vio­lence & hate. \n#ONEVibes #HipHop­Dance­hal­lAfrobeats #Colog­neNights #Sub­way­Cologne #Dance­hall­Cul­ture #Afrobeat­sToThe­World #HipHo­pLovers #Good­VibesOn­ly #CologneEvents #PartyAlert
URL:https://riddim.world/event/one-dancehall-x-hiphop-x-afrobeats-cologne/2030-03-23/
LOCATION:Club Subway\, Aachener Straße 82-84\, Cologne\, Germany
CATEGORIES:Party
ATTACH;FMTTYPE=image/png:https://riddim.world/wp-content/uploads/2026/04/Screenshot-2026-04-17-104428.png
END:VEVENT
BEGIN:VEVENT
DTSTART;TZID=Europe/Berlin:20300324T170000
DTEND;TZID=Europe/Berlin:20300324T235900
DTSTAMP:20260421T124802
CREATED:20260420T150558Z
LAST-MODIFIED:20260420T150558Z
UID:10000430-1900602000-1900627140@riddim.world
SUMMARY:Kingston Dub Club
DESCRIPTION:Rock Your Soul! Strict­ly Roots! \nEvery sun­day: 5pm — 12 am
URL:https://riddim.world/event/kingston-dub-club/2030-03-24/
LOCATION:Kingston Dub Club\, 7b Skyline Drive\, Kingston\, Kingston 6\, Jamaica
CATEGORIES:Party
ATTACH;FMTTYPE=image/jpeg:https://riddim.world/wp-content/uploads/2026/04/dub-club-real_AH_405DA543-BBB9-3ECB-7B1A546A3C89C2E6-405da4ca0d5d25c_405da7f5-a6af-cfa0-4bf0ddb12c04a735.jpg
END:VEVENT
END:VCALENDAR