BEGIN:VCALENDAR
VERSION:2.0
PRODID:-//riddim Mag - ECPv6.15.20//NONSGML v1.0//EN
CALSCALE:GREGORIAN
METHOD:PUBLISH
X-WR-CALNAME:riddim Mag
X-ORIGINAL-URL:https://riddim.world
X-WR-CALDESC:Events for riddim Mag
REFRESH-INTERVAL;VALUE=DURATION:PT1H
X-Robots-Tag:noindex
X-PUBLISHED-TTL:PT1H
BEGIN:VTIMEZONE
TZID:Europe/Berlin
BEGIN:DAYLIGHT
TZOFFSETFROM:+0100
TZOFFSETTO:+0200
TZNAME:CEST
DTSTART:20290325T010000
END:DAYLIGHT
BEGIN:STANDARD
TZOFFSETFROM:+0200
TZOFFSETTO:+0100
TZNAME:CET
DTSTART:20291028T010000
END:STANDARD
BEGIN:DAYLIGHT
TZOFFSETFROM:+0100
TZOFFSETTO:+0200
TZNAME:CEST
DTSTART:20300331T010000
END:DAYLIGHT
BEGIN:STANDARD
TZOFFSETFROM:+0200
TZOFFSETTO:+0100
TZNAME:CET
DTSTART:20301027T010000
END:STANDARD
BEGIN:DAYLIGHT
TZOFFSETFROM:+0100
TZOFFSETTO:+0200
TZNAME:CEST
DTSTART:20310330T010000
END:DAYLIGHT
BEGIN:STANDARD
TZOFFSETFROM:+0200
TZOFFSETTO:+0100
TZNAME:CET
DTSTART:20311026T010000
END:STANDARD
END:VTIMEZONE
BEGIN:VEVENT
DTSTART;TZID=Europe/Berlin:20300512T170000
DTEND;TZID=Europe/Berlin:20300512T235900
DTSTAMP:20260422T060128
CREATED:20260420T150558Z
LAST-MODIFIED:20260420T150558Z
UID:10000437-1904835600-1904860740@riddim.world
SUMMARY:Kingston Dub Club
DESCRIPTION:Rock Your Soul! Strict­ly Roots! \nEvery sun­day: 5pm — 12 am
URL:https://riddim.world/event/kingston-dub-club/2030-05-12/
LOCATION:Kingston Dub Club\, 7b Skyline Drive\, Kingston\, Kingston 6\, Jamaica
CATEGORIES:Party
ATTACH;FMTTYPE=image/jpeg:https://riddim.world/wp-content/uploads/2026/04/dub-club-real_AH_405DA543-BBB9-3ECB-7B1A546A3C89C2E6-405da4ca0d5d25c_405da7f5-a6af-cfa0-4bf0ddb12c04a735.jpg
END:VEVENT
BEGIN:VEVENT
DTSTART;TZID=Europe/Berlin:20300519T170000
DTEND;TZID=Europe/Berlin:20300519T235900
DTSTAMP:20260422T060128
CREATED:20260420T150558Z
LAST-MODIFIED:20260420T150558Z
UID:10000438-1905440400-1905465540@riddim.world
SUMMARY:Kingston Dub Club
DESCRIPTION:Rock Your Soul! Strict­ly Roots! \nEvery sun­day: 5pm — 12 am
URL:https://riddim.world/event/kingston-dub-club/2030-05-19/
LOCATION:Kingston Dub Club\, 7b Skyline Drive\, Kingston\, Kingston 6\, Jamaica
CATEGORIES:Party
ATTACH;FMTTYPE=image/jpeg:https://riddim.world/wp-content/uploads/2026/04/dub-club-real_AH_405DA543-BBB9-3ECB-7B1A546A3C89C2E6-405da4ca0d5d25c_405da7f5-a6af-cfa0-4bf0ddb12c04a735.jpg
END:VEVENT
BEGIN:VEVENT
DTSTART;TZID=Europe/Berlin:20300525T230000
DTEND;TZID=Europe/Berlin:20300526T050000
DTSTAMP:20260422T060128
CREATED:20260417T084937Z
LAST-MODIFIED:20260417T085741Z
UID:10000156-1905980400-1906002000@riddim.world
SUMMARY:ONE - Dancehall x HipHop x Afrobeats @Cologne
DESCRIPTION:🌍 HIPHOP x DANCEHALL x AFROBEATS\n6 Years. One night. One fam­i­ly. 💥 #weare­one \n💃🏾 Start: 23:00 Uhr\n🎟️ Tick­ets: 10 € (VVK) | 12 € (AK)\n📍 Club Sub­way\, Aach­en­er Str. 82–84\, Köln \nLat­est updates: one.cgn (IG) \nFor over six years\, ONE has been bring­ing the hottest vibes from Dance­hall\, Afrobeats\, and HipHop to Club Sub­way.\nWhether it’s dances in the Jamaican yards or block par­ties in New York\, both share the same essence: com­mu­ni­ty\, pas­sion\, and music. \nOver time\, HipHop has become a dom­i­nant genre\, yet its roots are deeply inspired by Jamaica and its cul­ture. That’s why it only makes sense to bring them togeth­er on one par­ty floor:\nTwo styles that con­tin­u­ous­ly influ­ence each oth­er – yet remain one. \n💬 GIVE RESPECT\, GET RESPECT.\n🚫 No place for sex­ism\, racism\, vio­lence & hate. \n#ONEVibes #HipHop­Dance­hal­lAfrobeats #Colog­neNights #Sub­way­Cologne #Dance­hall­Cul­ture #Afrobeat­sToThe­World #HipHo­pLovers #Good­VibesOn­ly #CologneEvents #PartyAlert
URL:https://riddim.world/event/one-dancehall-x-hiphop-x-afrobeats-cologne/2030-05-25/
LOCATION:Club Subway\, Aachener Straße 82-84\, Cologne\, Germany
CATEGORIES:Party
ATTACH;FMTTYPE=image/png:https://riddim.world/wp-content/uploads/2026/04/Screenshot-2026-04-17-104428.png
END:VEVENT
BEGIN:VEVENT
DTSTART;TZID=Europe/Berlin:20300526T170000
DTEND;TZID=Europe/Berlin:20300526T235900
DTSTAMP:20260422T060128
CREATED:20260420T150558Z
LAST-MODIFIED:20260420T150558Z
UID:10000439-1906045200-1906070340@riddim.world
SUMMARY:Kingston Dub Club
DESCRIPTION:Rock Your Soul! Strict­ly Roots! \nEvery sun­day: 5pm — 12 am
URL:https://riddim.world/event/kingston-dub-club/2030-05-26/
LOCATION:Kingston Dub Club\, 7b Skyline Drive\, Kingston\, Kingston 6\, Jamaica
CATEGORIES:Party
ATTACH;FMTTYPE=image/jpeg:https://riddim.world/wp-content/uploads/2026/04/dub-club-real_AH_405DA543-BBB9-3ECB-7B1A546A3C89C2E6-405da4ca0d5d25c_405da7f5-a6af-cfa0-4bf0ddb12c04a735.jpg
END:VEVENT
BEGIN:VEVENT
DTSTART;TZID=Europe/Berlin:20300602T170000
DTEND;TZID=Europe/Berlin:20300602T235900
DTSTAMP:20260422T060128
CREATED:20260420T150558Z
LAST-MODIFIED:20260420T150558Z
UID:10000440-1906650000-1906675140@riddim.world
SUMMARY:Kingston Dub Club
DESCRIPTION:Rock Your Soul! Strict­ly Roots! \nEvery sun­day: 5pm — 12 am
URL:https://riddim.world/event/kingston-dub-club/2030-06-02/
LOCATION:Kingston Dub Club\, 7b Skyline Drive\, Kingston\, Kingston 6\, Jamaica
CATEGORIES:Party
ATTACH;FMTTYPE=image/jpeg:https://riddim.world/wp-content/uploads/2026/04/dub-club-real_AH_405DA543-BBB9-3ECB-7B1A546A3C89C2E6-405da4ca0d5d25c_405da7f5-a6af-cfa0-4bf0ddb12c04a735.jpg
END:VEVENT
BEGIN:VEVENT
DTSTART;TZID=Europe/Berlin:20300609T170000
DTEND;TZID=Europe/Berlin:20300609T235900
DTSTAMP:20260422T060128
CREATED:20260420T150558Z
LAST-MODIFIED:20260420T150558Z
UID:10000441-1907254800-1907279940@riddim.world
SUMMARY:Kingston Dub Club
DESCRIPTION:Rock Your Soul! Strict­ly Roots! \nEvery sun­day: 5pm — 12 am
URL:https://riddim.world/event/kingston-dub-club/2030-06-09/
LOCATION:Kingston Dub Club\, 7b Skyline Drive\, Kingston\, Kingston 6\, Jamaica
CATEGORIES:Party
ATTACH;FMTTYPE=image/jpeg:https://riddim.world/wp-content/uploads/2026/04/dub-club-real_AH_405DA543-BBB9-3ECB-7B1A546A3C89C2E6-405da4ca0d5d25c_405da7f5-a6af-cfa0-4bf0ddb12c04a735.jpg
END:VEVENT
BEGIN:VEVENT
DTSTART;TZID=Europe/Berlin:20300616T170000
DTEND;TZID=Europe/Berlin:20300616T235900
DTSTAMP:20260422T060128
CREATED:20260420T150558Z
LAST-MODIFIED:20260420T150558Z
UID:10000442-1907859600-1907884740@riddim.world
SUMMARY:Kingston Dub Club
DESCRIPTION:Rock Your Soul! Strict­ly Roots! \nEvery sun­day: 5pm — 12 am
URL:https://riddim.world/event/kingston-dub-club/2030-06-16/
LOCATION:Kingston Dub Club\, 7b Skyline Drive\, Kingston\, Kingston 6\, Jamaica
CATEGORIES:Party
ATTACH;FMTTYPE=image/jpeg:https://riddim.world/wp-content/uploads/2026/04/dub-club-real_AH_405DA543-BBB9-3ECB-7B1A546A3C89C2E6-405da4ca0d5d25c_405da7f5-a6af-cfa0-4bf0ddb12c04a735.jpg
END:VEVENT
BEGIN:VEVENT
DTSTART;TZID=Europe/Berlin:20300622T230000
DTEND;TZID=Europe/Berlin:20300623T050000
DTSTAMP:20260422T060128
CREATED:20260417T084937Z
LAST-MODIFIED:20260417T085741Z
UID:10000157-1908399600-1908421200@riddim.world
SUMMARY:ONE - Dancehall x HipHop x Afrobeats @Cologne
DESCRIPTION:🌍 HIPHOP x DANCEHALL x AFROBEATS\n6 Years. One night. One fam­i­ly. 💥 #weare­one \n💃🏾 Start: 23:00 Uhr\n🎟️ Tick­ets: 10 € (VVK) | 12 € (AK)\n📍 Club Sub­way\, Aach­en­er Str. 82–84\, Köln \nLat­est updates: one.cgn (IG) \nFor over six years\, ONE has been bring­ing the hottest vibes from Dance­hall\, Afrobeats\, and HipHop to Club Sub­way.\nWhether it’s dances in the Jamaican yards or block par­ties in New York\, both share the same essence: com­mu­ni­ty\, pas­sion\, and music. \nOver time\, HipHop has become a dom­i­nant genre\, yet its roots are deeply inspired by Jamaica and its cul­ture. That’s why it only makes sense to bring them togeth­er on one par­ty floor:\nTwo styles that con­tin­u­ous­ly influ­ence each oth­er – yet remain one. \n💬 GIVE RESPECT\, GET RESPECT.\n🚫 No place for sex­ism\, racism\, vio­lence & hate. \n#ONEVibes #HipHop­Dance­hal­lAfrobeats #Colog­neNights #Sub­way­Cologne #Dance­hall­Cul­ture #Afrobeat­sToThe­World #HipHo­pLovers #Good­VibesOn­ly #CologneEvents #PartyAlert
URL:https://riddim.world/event/one-dancehall-x-hiphop-x-afrobeats-cologne/2030-06-22/
LOCATION:Club Subway\, Aachener Straße 82-84\, Cologne\, Germany
CATEGORIES:Party
ATTACH;FMTTYPE=image/png:https://riddim.world/wp-content/uploads/2026/04/Screenshot-2026-04-17-104428.png
END:VEVENT
BEGIN:VEVENT
DTSTART;TZID=Europe/Berlin:20300623T170000
DTEND;TZID=Europe/Berlin:20300623T235900
DTSTAMP:20260422T060128
CREATED:20260420T150558Z
LAST-MODIFIED:20260420T150558Z
UID:10000443-1908464400-1908489540@riddim.world
SUMMARY:Kingston Dub Club
DESCRIPTION:Rock Your Soul! Strict­ly Roots! \nEvery sun­day: 5pm — 12 am
URL:https://riddim.world/event/kingston-dub-club/2030-06-23/
LOCATION:Kingston Dub Club\, 7b Skyline Drive\, Kingston\, Kingston 6\, Jamaica
CATEGORIES:Party
ATTACH;FMTTYPE=image/jpeg:https://riddim.world/wp-content/uploads/2026/04/dub-club-real_AH_405DA543-BBB9-3ECB-7B1A546A3C89C2E6-405da4ca0d5d25c_405da7f5-a6af-cfa0-4bf0ddb12c04a735.jpg
END:VEVENT
BEGIN:VEVENT
DTSTART;TZID=Europe/Berlin:20300630T170000
DTEND;TZID=Europe/Berlin:20300630T235900
DTSTAMP:20260422T060128
CREATED:20260420T150558Z
LAST-MODIFIED:20260420T150558Z
UID:10000444-1909069200-1909094340@riddim.world
SUMMARY:Kingston Dub Club
DESCRIPTION:Rock Your Soul! Strict­ly Roots! \nEvery sun­day: 5pm — 12 am
URL:https://riddim.world/event/kingston-dub-club/2030-06-30/
LOCATION:Kingston Dub Club\, 7b Skyline Drive\, Kingston\, Kingston 6\, Jamaica
CATEGORIES:Party
ATTACH;FMTTYPE=image/jpeg:https://riddim.world/wp-content/uploads/2026/04/dub-club-real_AH_405DA543-BBB9-3ECB-7B1A546A3C89C2E6-405da4ca0d5d25c_405da7f5-a6af-cfa0-4bf0ddb12c04a735.jpg
END:VEVENT
BEGIN:VEVENT
DTSTART;TZID=Europe/Berlin:20300707T170000
DTEND;TZID=Europe/Berlin:20300707T235900
DTSTAMP:20260422T060128
CREATED:20260420T150558Z
LAST-MODIFIED:20260420T150558Z
UID:10000445-1909674000-1909699140@riddim.world
SUMMARY:Kingston Dub Club
DESCRIPTION:Rock Your Soul! Strict­ly Roots! \nEvery sun­day: 5pm — 12 am
URL:https://riddim.world/event/kingston-dub-club/2030-07-07/
LOCATION:Kingston Dub Club\, 7b Skyline Drive\, Kingston\, Kingston 6\, Jamaica
CATEGORIES:Party
ATTACH;FMTTYPE=image/jpeg:https://riddim.world/wp-content/uploads/2026/04/dub-club-real_AH_405DA543-BBB9-3ECB-7B1A546A3C89C2E6-405da4ca0d5d25c_405da7f5-a6af-cfa0-4bf0ddb12c04a735.jpg
END:VEVENT
BEGIN:VEVENT
DTSTART;TZID=Europe/Berlin:20300714T170000
DTEND;TZID=Europe/Berlin:20300714T235900
DTSTAMP:20260422T060128
CREATED:20260420T150558Z
LAST-MODIFIED:20260420T150558Z
UID:10000446-1910278800-1910303940@riddim.world
SUMMARY:Kingston Dub Club
DESCRIPTION:Rock Your Soul! Strict­ly Roots! \nEvery sun­day: 5pm — 12 am
URL:https://riddim.world/event/kingston-dub-club/2030-07-14/
LOCATION:Kingston Dub Club\, 7b Skyline Drive\, Kingston\, Kingston 6\, Jamaica
CATEGORIES:Party
ATTACH;FMTTYPE=image/jpeg:https://riddim.world/wp-content/uploads/2026/04/dub-club-real_AH_405DA543-BBB9-3ECB-7B1A546A3C89C2E6-405da4ca0d5d25c_405da7f5-a6af-cfa0-4bf0ddb12c04a735.jpg
END:VEVENT
BEGIN:VEVENT
DTSTART;TZID=Europe/Berlin:20300721T170000
DTEND;TZID=Europe/Berlin:20300721T235900
DTSTAMP:20260422T060128
CREATED:20260420T150558Z
LAST-MODIFIED:20260420T150558Z
UID:10000447-1910883600-1910908740@riddim.world
SUMMARY:Kingston Dub Club
DESCRIPTION:Rock Your Soul! Strict­ly Roots! \nEvery sun­day: 5pm — 12 am
URL:https://riddim.world/event/kingston-dub-club/2030-07-21/
LOCATION:Kingston Dub Club\, 7b Skyline Drive\, Kingston\, Kingston 6\, Jamaica
CATEGORIES:Party
ATTACH;FMTTYPE=image/jpeg:https://riddim.world/wp-content/uploads/2026/04/dub-club-real_AH_405DA543-BBB9-3ECB-7B1A546A3C89C2E6-405da4ca0d5d25c_405da7f5-a6af-cfa0-4bf0ddb12c04a735.jpg
END:VEVENT
BEGIN:VEVENT
DTSTART;TZID=Europe/Berlin:20300727T230000
DTEND;TZID=Europe/Berlin:20300728T050000
DTSTAMP:20260422T060128
CREATED:20260417T084937Z
LAST-MODIFIED:20260417T085741Z
UID:10000158-1911423600-1911445200@riddim.world
SUMMARY:ONE - Dancehall x HipHop x Afrobeats @Cologne
DESCRIPTION:🌍 HIPHOP x DANCEHALL x AFROBEATS\n6 Years. One night. One fam­i­ly. 💥 #weare­one \n💃🏾 Start: 23:00 Uhr\n🎟️ Tick­ets: 10 € (VVK) | 12 € (AK)\n📍 Club Sub­way\, Aach­en­er Str. 82–84\, Köln \nLat­est updates: one.cgn (IG) \nFor over six years\, ONE has been bring­ing the hottest vibes from Dance­hall\, Afrobeats\, and HipHop to Club Sub­way.\nWhether it’s dances in the Jamaican yards or block par­ties in New York\, both share the same essence: com­mu­ni­ty\, pas­sion\, and music. \nOver time\, HipHop has become a dom­i­nant genre\, yet its roots are deeply inspired by Jamaica and its cul­ture. That’s why it only makes sense to bring them togeth­er on one par­ty floor:\nTwo styles that con­tin­u­ous­ly influ­ence each oth­er – yet remain one. \n💬 GIVE RESPECT\, GET RESPECT.\n🚫 No place for sex­ism\, racism\, vio­lence & hate. \n#ONEVibes #HipHop­Dance­hal­lAfrobeats #Colog­neNights #Sub­way­Cologne #Dance­hall­Cul­ture #Afrobeat­sToThe­World #HipHo­pLovers #Good­VibesOn­ly #CologneEvents #PartyAlert
URL:https://riddim.world/event/one-dancehall-x-hiphop-x-afrobeats-cologne/2030-07-27/
LOCATION:Club Subway\, Aachener Straße 82-84\, Cologne\, Germany
CATEGORIES:Party
ATTACH;FMTTYPE=image/png:https://riddim.world/wp-content/uploads/2026/04/Screenshot-2026-04-17-104428.png
END:VEVENT
BEGIN:VEVENT
DTSTART;TZID=Europe/Berlin:20300728T170000
DTEND;TZID=Europe/Berlin:20300728T235900
DTSTAMP:20260422T060128
CREATED:20260420T150558Z
LAST-MODIFIED:20260420T150558Z
UID:10000448-1911488400-1911513540@riddim.world
SUMMARY:Kingston Dub Club
DESCRIPTION:Rock Your Soul! Strict­ly Roots! \nEvery sun­day: 5pm — 12 am
URL:https://riddim.world/event/kingston-dub-club/2030-07-28/
LOCATION:Kingston Dub Club\, 7b Skyline Drive\, Kingston\, Kingston 6\, Jamaica
CATEGORIES:Party
ATTACH;FMTTYPE=image/jpeg:https://riddim.world/wp-content/uploads/2026/04/dub-club-real_AH_405DA543-BBB9-3ECB-7B1A546A3C89C2E6-405da4ca0d5d25c_405da7f5-a6af-cfa0-4bf0ddb12c04a735.jpg
END:VEVENT
BEGIN:VEVENT
DTSTART;TZID=Europe/Berlin:20300804T170000
DTEND;TZID=Europe/Berlin:20300804T235900
DTSTAMP:20260422T060128
CREATED:20260420T150558Z
LAST-MODIFIED:20260420T150558Z
UID:10000449-1912093200-1912118340@riddim.world
SUMMARY:Kingston Dub Club
DESCRIPTION:Rock Your Soul! Strict­ly Roots! \nEvery sun­day: 5pm — 12 am
URL:https://riddim.world/event/kingston-dub-club/2030-08-04/
LOCATION:Kingston Dub Club\, 7b Skyline Drive\, Kingston\, Kingston 6\, Jamaica
CATEGORIES:Party
ATTACH;FMTTYPE=image/jpeg:https://riddim.world/wp-content/uploads/2026/04/dub-club-real_AH_405DA543-BBB9-3ECB-7B1A546A3C89C2E6-405da4ca0d5d25c_405da7f5-a6af-cfa0-4bf0ddb12c04a735.jpg
END:VEVENT
BEGIN:VEVENT
DTSTART;TZID=Europe/Berlin:20300811T170000
DTEND;TZID=Europe/Berlin:20300811T235900
DTSTAMP:20260422T060128
CREATED:20260420T150558Z
LAST-MODIFIED:20260420T150558Z
UID:10000450-1912698000-1912723140@riddim.world
SUMMARY:Kingston Dub Club
DESCRIPTION:Rock Your Soul! Strict­ly Roots! \nEvery sun­day: 5pm — 12 am
URL:https://riddim.world/event/kingston-dub-club/2030-08-11/
LOCATION:Kingston Dub Club\, 7b Skyline Drive\, Kingston\, Kingston 6\, Jamaica
CATEGORIES:Party
ATTACH;FMTTYPE=image/jpeg:https://riddim.world/wp-content/uploads/2026/04/dub-club-real_AH_405DA543-BBB9-3ECB-7B1A546A3C89C2E6-405da4ca0d5d25c_405da7f5-a6af-cfa0-4bf0ddb12c04a735.jpg
END:VEVENT
BEGIN:VEVENT
DTSTART;TZID=Europe/Berlin:20300818T170000
DTEND;TZID=Europe/Berlin:20300818T235900
DTSTAMP:20260422T060128
CREATED:20260420T150558Z
LAST-MODIFIED:20260420T150558Z
UID:10000451-1913302800-1913327940@riddim.world
SUMMARY:Kingston Dub Club
DESCRIPTION:Rock Your Soul! Strict­ly Roots! \nEvery sun­day: 5pm — 12 am
URL:https://riddim.world/event/kingston-dub-club/2030-08-18/
LOCATION:Kingston Dub Club\, 7b Skyline Drive\, Kingston\, Kingston 6\, Jamaica
CATEGORIES:Party
ATTACH;FMTTYPE=image/jpeg:https://riddim.world/wp-content/uploads/2026/04/dub-club-real_AH_405DA543-BBB9-3ECB-7B1A546A3C89C2E6-405da4ca0d5d25c_405da7f5-a6af-cfa0-4bf0ddb12c04a735.jpg
END:VEVENT
BEGIN:VEVENT
DTSTART;TZID=Europe/Berlin:20300824T230000
DTEND;TZID=Europe/Berlin:20300825T050000
DTSTAMP:20260422T060128
CREATED:20260417T084937Z
LAST-MODIFIED:20260417T085741Z
UID:10000159-1913842800-1913864400@riddim.world
SUMMARY:ONE - Dancehall x HipHop x Afrobeats @Cologne
DESCRIPTION:🌍 HIPHOP x DANCEHALL x AFROBEATS\n6 Years. One night. One fam­i­ly. 💥 #weare­one \n💃🏾 Start: 23:00 Uhr\n🎟️ Tick­ets: 10 € (VVK) | 12 € (AK)\n📍 Club Sub­way\, Aach­en­er Str. 82–84\, Köln \nLat­est updates: one.cgn (IG) \nFor over six years\, ONE has been bring­ing the hottest vibes from Dance­hall\, Afrobeats\, and HipHop to Club Sub­way.\nWhether it’s dances in the Jamaican yards or block par­ties in New York\, both share the same essence: com­mu­ni­ty\, pas­sion\, and music. \nOver time\, HipHop has become a dom­i­nant genre\, yet its roots are deeply inspired by Jamaica and its cul­ture. That’s why it only makes sense to bring them togeth­er on one par­ty floor:\nTwo styles that con­tin­u­ous­ly influ­ence each oth­er – yet remain one. \n💬 GIVE RESPECT\, GET RESPECT.\n🚫 No place for sex­ism\, racism\, vio­lence & hate. \n#ONEVibes #HipHop­Dance­hal­lAfrobeats #Colog­neNights #Sub­way­Cologne #Dance­hall­Cul­ture #Afrobeat­sToThe­World #HipHo­pLovers #Good­VibesOn­ly #CologneEvents #PartyAlert
URL:https://riddim.world/event/one-dancehall-x-hiphop-x-afrobeats-cologne/2030-08-24/
LOCATION:Club Subway\, Aachener Straße 82-84\, Cologne\, Germany
CATEGORIES:Party
ATTACH;FMTTYPE=image/png:https://riddim.world/wp-content/uploads/2026/04/Screenshot-2026-04-17-104428.png
END:VEVENT
BEGIN:VEVENT
DTSTART;TZID=Europe/Berlin:20300825T170000
DTEND;TZID=Europe/Berlin:20300825T235900
DTSTAMP:20260422T060128
CREATED:20260420T150558Z
LAST-MODIFIED:20260420T150558Z
UID:10000452-1913907600-1913932740@riddim.world
SUMMARY:Kingston Dub Club
DESCRIPTION:Rock Your Soul! Strict­ly Roots! \nEvery sun­day: 5pm — 12 am
URL:https://riddim.world/event/kingston-dub-club/2030-08-25/
LOCATION:Kingston Dub Club\, 7b Skyline Drive\, Kingston\, Kingston 6\, Jamaica
CATEGORIES:Party
ATTACH;FMTTYPE=image/jpeg:https://riddim.world/wp-content/uploads/2026/04/dub-club-real_AH_405DA543-BBB9-3ECB-7B1A546A3C89C2E6-405da4ca0d5d25c_405da7f5-a6af-cfa0-4bf0ddb12c04a735.jpg
END:VEVENT
BEGIN:VEVENT
DTSTART;TZID=Europe/Berlin:20300901T170000
DTEND;TZID=Europe/Berlin:20300901T235900
DTSTAMP:20260422T060128
CREATED:20260420T150558Z
LAST-MODIFIED:20260420T150558Z
UID:10000453-1914512400-1914537540@riddim.world
SUMMARY:Kingston Dub Club
DESCRIPTION:Rock Your Soul! Strict­ly Roots! \nEvery sun­day: 5pm — 12 am
URL:https://riddim.world/event/kingston-dub-club/2030-09-01/
LOCATION:Kingston Dub Club\, 7b Skyline Drive\, Kingston\, Kingston 6\, Jamaica
CATEGORIES:Party
ATTACH;FMTTYPE=image/jpeg:https://riddim.world/wp-content/uploads/2026/04/dub-club-real_AH_405DA543-BBB9-3ECB-7B1A546A3C89C2E6-405da4ca0d5d25c_405da7f5-a6af-cfa0-4bf0ddb12c04a735.jpg
END:VEVENT
BEGIN:VEVENT
DTSTART;TZID=Europe/Berlin:20300908T170000
DTEND;TZID=Europe/Berlin:20300908T235900
DTSTAMP:20260422T060128
CREATED:20260420T150558Z
LAST-MODIFIED:20260420T150558Z
UID:10000454-1915117200-1915142340@riddim.world
SUMMARY:Kingston Dub Club
DESCRIPTION:Rock Your Soul! Strict­ly Roots! \nEvery sun­day: 5pm — 12 am
URL:https://riddim.world/event/kingston-dub-club/2030-09-08/
LOCATION:Kingston Dub Club\, 7b Skyline Drive\, Kingston\, Kingston 6\, Jamaica
CATEGORIES:Party
ATTACH;FMTTYPE=image/jpeg:https://riddim.world/wp-content/uploads/2026/04/dub-club-real_AH_405DA543-BBB9-3ECB-7B1A546A3C89C2E6-405da4ca0d5d25c_405da7f5-a6af-cfa0-4bf0ddb12c04a735.jpg
END:VEVENT
BEGIN:VEVENT
DTSTART;TZID=Europe/Berlin:20300915T170000
DTEND;TZID=Europe/Berlin:20300915T235900
DTSTAMP:20260422T060128
CREATED:20260420T150558Z
LAST-MODIFIED:20260420T150558Z
UID:10000455-1915722000-1915747140@riddim.world
SUMMARY:Kingston Dub Club
DESCRIPTION:Rock Your Soul! Strict­ly Roots! \nEvery sun­day: 5pm — 12 am
URL:https://riddim.world/event/kingston-dub-club/2030-09-15/
LOCATION:Kingston Dub Club\, 7b Skyline Drive\, Kingston\, Kingston 6\, Jamaica
CATEGORIES:Party
ATTACH;FMTTYPE=image/jpeg:https://riddim.world/wp-content/uploads/2026/04/dub-club-real_AH_405DA543-BBB9-3ECB-7B1A546A3C89C2E6-405da4ca0d5d25c_405da7f5-a6af-cfa0-4bf0ddb12c04a735.jpg
END:VEVENT
BEGIN:VEVENT
DTSTART;TZID=Europe/Berlin:20300922T170000
DTEND;TZID=Europe/Berlin:20300922T235900
DTSTAMP:20260422T060128
CREATED:20260420T150558Z
LAST-MODIFIED:20260420T150558Z
UID:10000456-1916326800-1916351940@riddim.world
SUMMARY:Kingston Dub Club
DESCRIPTION:Rock Your Soul! Strict­ly Roots! \nEvery sun­day: 5pm — 12 am
URL:https://riddim.world/event/kingston-dub-club/2030-09-22/
LOCATION:Kingston Dub Club\, 7b Skyline Drive\, Kingston\, Kingston 6\, Jamaica
CATEGORIES:Party
ATTACH;FMTTYPE=image/jpeg:https://riddim.world/wp-content/uploads/2026/04/dub-club-real_AH_405DA543-BBB9-3ECB-7B1A546A3C89C2E6-405da4ca0d5d25c_405da7f5-a6af-cfa0-4bf0ddb12c04a735.jpg
END:VEVENT
BEGIN:VEVENT
DTSTART;TZID=Europe/Berlin:20300928T230000
DTEND;TZID=Europe/Berlin:20300929T050000
DTSTAMP:20260422T060128
CREATED:20260417T084937Z
LAST-MODIFIED:20260417T085741Z
UID:10000160-1916866800-1916888400@riddim.world
SUMMARY:ONE - Dancehall x HipHop x Afrobeats @Cologne
DESCRIPTION:🌍 HIPHOP x DANCEHALL x AFROBEATS\n6 Years. One night. One fam­i­ly. 💥 #weare­one \n💃🏾 Start: 23:00 Uhr\n🎟️ Tick­ets: 10 € (VVK) | 12 € (AK)\n📍 Club Sub­way\, Aach­en­er Str. 82–84\, Köln \nLat­est updates: one.cgn (IG) \nFor over six years\, ONE has been bring­ing the hottest vibes from Dance­hall\, Afrobeats\, and HipHop to Club Sub­way.\nWhether it’s dances in the Jamaican yards or block par­ties in New York\, both share the same essence: com­mu­ni­ty\, pas­sion\, and music. \nOver time\, HipHop has become a dom­i­nant genre\, yet its roots are deeply inspired by Jamaica and its cul­ture. That’s why it only makes sense to bring them togeth­er on one par­ty floor:\nTwo styles that con­tin­u­ous­ly influ­ence each oth­er – yet remain one. \n💬 GIVE RESPECT\, GET RESPECT.\n🚫 No place for sex­ism\, racism\, vio­lence & hate. \n#ONEVibes #HipHop­Dance­hal­lAfrobeats #Colog­neNights #Sub­way­Cologne #Dance­hall­Cul­ture #Afrobeat­sToThe­World #HipHo­pLovers #Good­VibesOn­ly #CologneEvents #PartyAlert
URL:https://riddim.world/event/one-dancehall-x-hiphop-x-afrobeats-cologne/2030-09-28/
LOCATION:Club Subway\, Aachener Straße 82-84\, Cologne\, Germany
CATEGORIES:Party
ATTACH;FMTTYPE=image/png:https://riddim.world/wp-content/uploads/2026/04/Screenshot-2026-04-17-104428.png
END:VEVENT
BEGIN:VEVENT
DTSTART;TZID=Europe/Berlin:20300929T170000
DTEND;TZID=Europe/Berlin:20300929T235900
DTSTAMP:20260422T060128
CREATED:20260420T150558Z
LAST-MODIFIED:20260420T150558Z
UID:10000457-1916931600-1916956740@riddim.world
SUMMARY:Kingston Dub Club
DESCRIPTION:Rock Your Soul! Strict­ly Roots! \nEvery sun­day: 5pm — 12 am
URL:https://riddim.world/event/kingston-dub-club/2030-09-29/
LOCATION:Kingston Dub Club\, 7b Skyline Drive\, Kingston\, Kingston 6\, Jamaica
CATEGORIES:Party
ATTACH;FMTTYPE=image/jpeg:https://riddim.world/wp-content/uploads/2026/04/dub-club-real_AH_405DA543-BBB9-3ECB-7B1A546A3C89C2E6-405da4ca0d5d25c_405da7f5-a6af-cfa0-4bf0ddb12c04a735.jpg
END:VEVENT
BEGIN:VEVENT
DTSTART;TZID=Europe/Berlin:20301006T170000
DTEND;TZID=Europe/Berlin:20301006T235900
DTSTAMP:20260422T060128
CREATED:20260420T150558Z
LAST-MODIFIED:20260420T150558Z
UID:10000458-1917536400-1917561540@riddim.world
SUMMARY:Kingston Dub Club
DESCRIPTION:Rock Your Soul! Strict­ly Roots! \nEvery sun­day: 5pm — 12 am
URL:https://riddim.world/event/kingston-dub-club/2030-10-06/
LOCATION:Kingston Dub Club\, 7b Skyline Drive\, Kingston\, Kingston 6\, Jamaica
CATEGORIES:Party
ATTACH;FMTTYPE=image/jpeg:https://riddim.world/wp-content/uploads/2026/04/dub-club-real_AH_405DA543-BBB9-3ECB-7B1A546A3C89C2E6-405da4ca0d5d25c_405da7f5-a6af-cfa0-4bf0ddb12c04a735.jpg
END:VEVENT
BEGIN:VEVENT
DTSTART;TZID=Europe/Berlin:20301013T170000
DTEND;TZID=Europe/Berlin:20301013T235900
DTSTAMP:20260422T060128
CREATED:20260420T150558Z
LAST-MODIFIED:20260420T150558Z
UID:10000459-1918141200-1918166340@riddim.world
SUMMARY:Kingston Dub Club
DESCRIPTION:Rock Your Soul! Strict­ly Roots! \nEvery sun­day: 5pm — 12 am
URL:https://riddim.world/event/kingston-dub-club/2030-10-13/
LOCATION:Kingston Dub Club\, 7b Skyline Drive\, Kingston\, Kingston 6\, Jamaica
CATEGORIES:Party
ATTACH;FMTTYPE=image/jpeg:https://riddim.world/wp-content/uploads/2026/04/dub-club-real_AH_405DA543-BBB9-3ECB-7B1A546A3C89C2E6-405da4ca0d5d25c_405da7f5-a6af-cfa0-4bf0ddb12c04a735.jpg
END:VEVENT
BEGIN:VEVENT
DTSTART;TZID=Europe/Berlin:20301020T170000
DTEND;TZID=Europe/Berlin:20301020T235900
DTSTAMP:20260422T060128
CREATED:20260420T150558Z
LAST-MODIFIED:20260420T150558Z
UID:10000460-1918746000-1918771140@riddim.world
SUMMARY:Kingston Dub Club
DESCRIPTION:Rock Your Soul! Strict­ly Roots! \nEvery sun­day: 5pm — 12 am
URL:https://riddim.world/event/kingston-dub-club/2030-10-20/
LOCATION:Kingston Dub Club\, 7b Skyline Drive\, Kingston\, Kingston 6\, Jamaica
CATEGORIES:Party
ATTACH;FMTTYPE=image/jpeg:https://riddim.world/wp-content/uploads/2026/04/dub-club-real_AH_405DA543-BBB9-3ECB-7B1A546A3C89C2E6-405da4ca0d5d25c_405da7f5-a6af-cfa0-4bf0ddb12c04a735.jpg
END:VEVENT
BEGIN:VEVENT
DTSTART;TZID=Europe/Berlin:20301026T230000
DTEND;TZID=Europe/Berlin:20301027T040000
DTSTAMP:20260422T060128
CREATED:20260417T084937Z
LAST-MODIFIED:20260417T085741Z
UID:10000161-1919286000-1919304000@riddim.world
SUMMARY:ONE - Dancehall x HipHop x Afrobeats @Cologne
DESCRIPTION:🌍 HIPHOP x DANCEHALL x AFROBEATS\n6 Years. One night. One fam­i­ly. 💥 #weare­one \n💃🏾 Start: 23:00 Uhr\n🎟️ Tick­ets: 10 € (VVK) | 12 € (AK)\n📍 Club Sub­way\, Aach­en­er Str. 82–84\, Köln \nLat­est updates: one.cgn (IG) \nFor over six years\, ONE has been bring­ing the hottest vibes from Dance­hall\, Afrobeats\, and HipHop to Club Sub­way.\nWhether it’s dances in the Jamaican yards or block par­ties in New York\, both share the same essence: com­mu­ni­ty\, pas­sion\, and music. \nOver time\, HipHop has become a dom­i­nant genre\, yet its roots are deeply inspired by Jamaica and its cul­ture. That’s why it only makes sense to bring them togeth­er on one par­ty floor:\nTwo styles that con­tin­u­ous­ly influ­ence each oth­er – yet remain one. \n💬 GIVE RESPECT\, GET RESPECT.\n🚫 No place for sex­ism\, racism\, vio­lence & hate. \n#ONEVibes #HipHop­Dance­hal­lAfrobeats #Colog­neNights #Sub­way­Cologne #Dance­hall­Cul­ture #Afrobeat­sToThe­World #HipHo­pLovers #Good­VibesOn­ly #CologneEvents #PartyAlert
URL:https://riddim.world/event/one-dancehall-x-hiphop-x-afrobeats-cologne/2030-10-26/
LOCATION:Club Subway\, Aachener Straße 82-84\, Cologne\, Germany
CATEGORIES:Party
ATTACH;FMTTYPE=image/png:https://riddim.world/wp-content/uploads/2026/04/Screenshot-2026-04-17-104428.png
END:VEVENT
END:VCALENDAR