BEGIN:VCALENDAR
VERSION:2.0
PRODID:-//riddim Mag - ECPv6.15.20//NONSGML v1.0//EN
CALSCALE:GREGORIAN
METHOD:PUBLISH
X-WR-CALNAME:riddim Mag
X-ORIGINAL-URL:https://riddim.world
X-WR-CALDESC:Events for riddim Mag
REFRESH-INTERVAL;VALUE=DURATION:PT1H
X-Robots-Tag:noindex
X-PUBLISHED-TTL:PT1H
BEGIN:VTIMEZONE
TZID:Europe/Berlin
BEGIN:DAYLIGHT
TZOFFSETFROM:+0100
TZOFFSETTO:+0200
TZNAME:CEST
DTSTART:20270328T010000
END:DAYLIGHT
BEGIN:STANDARD
TZOFFSETFROM:+0200
TZOFFSETTO:+0100
TZNAME:CET
DTSTART:20271031T010000
END:STANDARD
BEGIN:DAYLIGHT
TZOFFSETFROM:+0100
TZOFFSETTO:+0200
TZNAME:CEST
DTSTART:20280326T010000
END:DAYLIGHT
BEGIN:STANDARD
TZOFFSETFROM:+0200
TZOFFSETTO:+0100
TZNAME:CET
DTSTART:20281029T010000
END:STANDARD
BEGIN:DAYLIGHT
TZOFFSETFROM:+0100
TZOFFSETTO:+0200
TZNAME:CEST
DTSTART:20290325T010000
END:DAYLIGHT
BEGIN:STANDARD
TZOFFSETFROM:+0200
TZOFFSETTO:+0100
TZNAME:CET
DTSTART:20291028T010000
END:STANDARD
END:VTIMEZONE
BEGIN:VEVENT
DTSTART;TZID=Europe/Berlin:20280416T170000
DTEND;TZID=Europe/Berlin:20280416T235900
DTSTAMP:20260420T232147
CREATED:20260420T150558Z
LAST-MODIFIED:20260420T150558Z
UID:10000329-1839517200-1839542340@riddim.world
SUMMARY:Kingston Dub Club
DESCRIPTION:Rock Your Soul! Strict­ly Roots! \nEvery sun­day: 5pm — 12 am
URL:https://riddim.world/event/kingston-dub-club/2028-04-16/
LOCATION:Kingston Dub Club\, 7b Skyline Drive\, Kingston\, Kingston 6\, Jamaica
CATEGORIES:Party
ATTACH;FMTTYPE=image/jpeg:https://riddim.world/wp-content/uploads/2026/04/dub-club-real_AH_405DA543-BBB9-3ECB-7B1A546A3C89C2E6-405da4ca0d5d25c_405da7f5-a6af-cfa0-4bf0ddb12c04a735.jpg
END:VEVENT
BEGIN:VEVENT
DTSTART;TZID=Europe/Berlin:20280422T230000
DTEND;TZID=Europe/Berlin:20280423T050000
DTSTAMP:20260420T232147
CREATED:20260417T084937Z
LAST-MODIFIED:20260417T085741Z
UID:10000131-1840057200-1840078800@riddim.world
SUMMARY:ONE - Dancehall x HipHop x Afrobeats @Cologne
DESCRIPTION:🌍 HIPHOP x DANCEHALL x AFROBEATS\n6 Years. One night. One fam­i­ly. 💥 #weare­one \n💃🏾 Start: 23:00 Uhr\n🎟️ Tick­ets: 10 € (VVK) | 12 € (AK)\n📍 Club Sub­way\, Aach­en­er Str. 82–84\, Köln \nLat­est updates: one.cgn (IG) \nFor over six years\, ONE has been bring­ing the hottest vibes from Dance­hall\, Afrobeats\, and HipHop to Club Sub­way.\nWhether it’s dances in the Jamaican yards or block par­ties in New York\, both share the same essence: com­mu­ni­ty\, pas­sion\, and music. \nOver time\, HipHop has become a dom­i­nant genre\, yet its roots are deeply inspired by Jamaica and its cul­ture. That’s why it only makes sense to bring them togeth­er on one par­ty floor:\nTwo styles that con­tin­u­ous­ly influ­ence each oth­er – yet remain one. \n💬 GIVE RESPECT\, GET RESPECT.\n🚫 No place for sex­ism\, racism\, vio­lence & hate. \n#ONEVibes #HipHop­Dance­hal­lAfrobeats #Colog­neNights #Sub­way­Cologne #Dance­hall­Cul­ture #Afrobeat­sToThe­World #HipHo­pLovers #Good­VibesOn­ly #CologneEvents #PartyAlert
URL:https://riddim.world/event/one-dancehall-x-hiphop-x-afrobeats-cologne/2028-04-22/
LOCATION:Club Subway\, Aachener Straße 82-84\, Cologne\, Germany
CATEGORIES:Party
ATTACH;FMTTYPE=image/png:https://riddim.world/wp-content/uploads/2026/04/Screenshot-2026-04-17-104428.png
END:VEVENT
BEGIN:VEVENT
DTSTART;TZID=Europe/Berlin:20280423T170000
DTEND;TZID=Europe/Berlin:20280423T235900
DTSTAMP:20260420T232147
CREATED:20260420T150558Z
LAST-MODIFIED:20260420T150558Z
UID:10000330-1840122000-1840147140@riddim.world
SUMMARY:Kingston Dub Club
DESCRIPTION:Rock Your Soul! Strict­ly Roots! \nEvery sun­day: 5pm — 12 am
URL:https://riddim.world/event/kingston-dub-club/2028-04-23/
LOCATION:Kingston Dub Club\, 7b Skyline Drive\, Kingston\, Kingston 6\, Jamaica
CATEGORIES:Party
ATTACH;FMTTYPE=image/jpeg:https://riddim.world/wp-content/uploads/2026/04/dub-club-real_AH_405DA543-BBB9-3ECB-7B1A546A3C89C2E6-405da4ca0d5d25c_405da7f5-a6af-cfa0-4bf0ddb12c04a735.jpg
END:VEVENT
BEGIN:VEVENT
DTSTART;TZID=Europe/Berlin:20280430T170000
DTEND;TZID=Europe/Berlin:20280430T235900
DTSTAMP:20260420T232147
CREATED:20260420T150558Z
LAST-MODIFIED:20260420T150558Z
UID:10000331-1840726800-1840751940@riddim.world
SUMMARY:Kingston Dub Club
DESCRIPTION:Rock Your Soul! Strict­ly Roots! \nEvery sun­day: 5pm — 12 am
URL:https://riddim.world/event/kingston-dub-club/2028-04-30/
LOCATION:Kingston Dub Club\, 7b Skyline Drive\, Kingston\, Kingston 6\, Jamaica
CATEGORIES:Party
ATTACH;FMTTYPE=image/jpeg:https://riddim.world/wp-content/uploads/2026/04/dub-club-real_AH_405DA543-BBB9-3ECB-7B1A546A3C89C2E6-405da4ca0d5d25c_405da7f5-a6af-cfa0-4bf0ddb12c04a735.jpg
END:VEVENT
BEGIN:VEVENT
DTSTART;TZID=Europe/Berlin:20280507T170000
DTEND;TZID=Europe/Berlin:20280507T235900
DTSTAMP:20260420T232147
CREATED:20260420T150558Z
LAST-MODIFIED:20260420T150558Z
UID:10000332-1841331600-1841356740@riddim.world
SUMMARY:Kingston Dub Club
DESCRIPTION:Rock Your Soul! Strict­ly Roots! \nEvery sun­day: 5pm — 12 am
URL:https://riddim.world/event/kingston-dub-club/2028-05-07/
LOCATION:Kingston Dub Club\, 7b Skyline Drive\, Kingston\, Kingston 6\, Jamaica
CATEGORIES:Party
ATTACH;FMTTYPE=image/jpeg:https://riddim.world/wp-content/uploads/2026/04/dub-club-real_AH_405DA543-BBB9-3ECB-7B1A546A3C89C2E6-405da4ca0d5d25c_405da7f5-a6af-cfa0-4bf0ddb12c04a735.jpg
END:VEVENT
BEGIN:VEVENT
DTSTART;TZID=Europe/Berlin:20280514T170000
DTEND;TZID=Europe/Berlin:20280514T235900
DTSTAMP:20260420T232147
CREATED:20260420T150558Z
LAST-MODIFIED:20260420T150558Z
UID:10000333-1841936400-1841961540@riddim.world
SUMMARY:Kingston Dub Club
DESCRIPTION:Rock Your Soul! Strict­ly Roots! \nEvery sun­day: 5pm — 12 am
URL:https://riddim.world/event/kingston-dub-club/2028-05-14/
LOCATION:Kingston Dub Club\, 7b Skyline Drive\, Kingston\, Kingston 6\, Jamaica
CATEGORIES:Party
ATTACH;FMTTYPE=image/jpeg:https://riddim.world/wp-content/uploads/2026/04/dub-club-real_AH_405DA543-BBB9-3ECB-7B1A546A3C89C2E6-405da4ca0d5d25c_405da7f5-a6af-cfa0-4bf0ddb12c04a735.jpg
END:VEVENT
BEGIN:VEVENT
DTSTART;TZID=Europe/Berlin:20280521T170000
DTEND;TZID=Europe/Berlin:20280521T235900
DTSTAMP:20260420T232147
CREATED:20260420T150558Z
LAST-MODIFIED:20260420T150558Z
UID:10000334-1842541200-1842566340@riddim.world
SUMMARY:Kingston Dub Club
DESCRIPTION:Rock Your Soul! Strict­ly Roots! \nEvery sun­day: 5pm — 12 am
URL:https://riddim.world/event/kingston-dub-club/2028-05-21/
LOCATION:Kingston Dub Club\, 7b Skyline Drive\, Kingston\, Kingston 6\, Jamaica
CATEGORIES:Party
ATTACH;FMTTYPE=image/jpeg:https://riddim.world/wp-content/uploads/2026/04/dub-club-real_AH_405DA543-BBB9-3ECB-7B1A546A3C89C2E6-405da4ca0d5d25c_405da7f5-a6af-cfa0-4bf0ddb12c04a735.jpg
END:VEVENT
BEGIN:VEVENT
DTSTART;TZID=Europe/Berlin:20280527T230000
DTEND;TZID=Europe/Berlin:20280528T050000
DTSTAMP:20260420T232147
CREATED:20260417T084937Z
LAST-MODIFIED:20260417T085741Z
UID:10000132-1843081200-1843102800@riddim.world
SUMMARY:ONE - Dancehall x HipHop x Afrobeats @Cologne
DESCRIPTION:🌍 HIPHOP x DANCEHALL x AFROBEATS\n6 Years. One night. One fam­i­ly. 💥 #weare­one \n💃🏾 Start: 23:00 Uhr\n🎟️ Tick­ets: 10 € (VVK) | 12 € (AK)\n📍 Club Sub­way\, Aach­en­er Str. 82–84\, Köln \nLat­est updates: one.cgn (IG) \nFor over six years\, ONE has been bring­ing the hottest vibes from Dance­hall\, Afrobeats\, and HipHop to Club Sub­way.\nWhether it’s dances in the Jamaican yards or block par­ties in New York\, both share the same essence: com­mu­ni­ty\, pas­sion\, and music. \nOver time\, HipHop has become a dom­i­nant genre\, yet its roots are deeply inspired by Jamaica and its cul­ture. That’s why it only makes sense to bring them togeth­er on one par­ty floor:\nTwo styles that con­tin­u­ous­ly influ­ence each oth­er – yet remain one. \n💬 GIVE RESPECT\, GET RESPECT.\n🚫 No place for sex­ism\, racism\, vio­lence & hate. \n#ONEVibes #HipHop­Dance­hal­lAfrobeats #Colog­neNights #Sub­way­Cologne #Dance­hall­Cul­ture #Afrobeat­sToThe­World #HipHo­pLovers #Good­VibesOn­ly #CologneEvents #PartyAlert
URL:https://riddim.world/event/one-dancehall-x-hiphop-x-afrobeats-cologne/2028-05-27/
LOCATION:Club Subway\, Aachener Straße 82-84\, Cologne\, Germany
CATEGORIES:Party
ATTACH;FMTTYPE=image/png:https://riddim.world/wp-content/uploads/2026/04/Screenshot-2026-04-17-104428.png
END:VEVENT
BEGIN:VEVENT
DTSTART;TZID=Europe/Berlin:20280528T170000
DTEND;TZID=Europe/Berlin:20280528T235900
DTSTAMP:20260420T232147
CREATED:20260420T150558Z
LAST-MODIFIED:20260420T150558Z
UID:10000335-1843146000-1843171140@riddim.world
SUMMARY:Kingston Dub Club
DESCRIPTION:Rock Your Soul! Strict­ly Roots! \nEvery sun­day: 5pm — 12 am
URL:https://riddim.world/event/kingston-dub-club/2028-05-28/
LOCATION:Kingston Dub Club\, 7b Skyline Drive\, Kingston\, Kingston 6\, Jamaica
CATEGORIES:Party
ATTACH;FMTTYPE=image/jpeg:https://riddim.world/wp-content/uploads/2026/04/dub-club-real_AH_405DA543-BBB9-3ECB-7B1A546A3C89C2E6-405da4ca0d5d25c_405da7f5-a6af-cfa0-4bf0ddb12c04a735.jpg
END:VEVENT
BEGIN:VEVENT
DTSTART;TZID=Europe/Berlin:20280604T170000
DTEND;TZID=Europe/Berlin:20280604T235900
DTSTAMP:20260420T232147
CREATED:20260420T150558Z
LAST-MODIFIED:20260420T150558Z
UID:10000336-1843750800-1843775940@riddim.world
SUMMARY:Kingston Dub Club
DESCRIPTION:Rock Your Soul! Strict­ly Roots! \nEvery sun­day: 5pm — 12 am
URL:https://riddim.world/event/kingston-dub-club/2028-06-04/
LOCATION:Kingston Dub Club\, 7b Skyline Drive\, Kingston\, Kingston 6\, Jamaica
CATEGORIES:Party
ATTACH;FMTTYPE=image/jpeg:https://riddim.world/wp-content/uploads/2026/04/dub-club-real_AH_405DA543-BBB9-3ECB-7B1A546A3C89C2E6-405da4ca0d5d25c_405da7f5-a6af-cfa0-4bf0ddb12c04a735.jpg
END:VEVENT
BEGIN:VEVENT
DTSTART;TZID=Europe/Berlin:20280611T170000
DTEND;TZID=Europe/Berlin:20280611T235900
DTSTAMP:20260420T232147
CREATED:20260420T150558Z
LAST-MODIFIED:20260420T150558Z
UID:10000337-1844355600-1844380740@riddim.world
SUMMARY:Kingston Dub Club
DESCRIPTION:Rock Your Soul! Strict­ly Roots! \nEvery sun­day: 5pm — 12 am
URL:https://riddim.world/event/kingston-dub-club/2028-06-11/
LOCATION:Kingston Dub Club\, 7b Skyline Drive\, Kingston\, Kingston 6\, Jamaica
CATEGORIES:Party
ATTACH;FMTTYPE=image/jpeg:https://riddim.world/wp-content/uploads/2026/04/dub-club-real_AH_405DA543-BBB9-3ECB-7B1A546A3C89C2E6-405da4ca0d5d25c_405da7f5-a6af-cfa0-4bf0ddb12c04a735.jpg
END:VEVENT
BEGIN:VEVENT
DTSTART;TZID=Europe/Berlin:20280618T170000
DTEND;TZID=Europe/Berlin:20280618T235900
DTSTAMP:20260420T232147
CREATED:20260420T150558Z
LAST-MODIFIED:20260420T150558Z
UID:10000338-1844960400-1844985540@riddim.world
SUMMARY:Kingston Dub Club
DESCRIPTION:Rock Your Soul! Strict­ly Roots! \nEvery sun­day: 5pm — 12 am
URL:https://riddim.world/event/kingston-dub-club/2028-06-18/
LOCATION:Kingston Dub Club\, 7b Skyline Drive\, Kingston\, Kingston 6\, Jamaica
CATEGORIES:Party
ATTACH;FMTTYPE=image/jpeg:https://riddim.world/wp-content/uploads/2026/04/dub-club-real_AH_405DA543-BBB9-3ECB-7B1A546A3C89C2E6-405da4ca0d5d25c_405da7f5-a6af-cfa0-4bf0ddb12c04a735.jpg
END:VEVENT
BEGIN:VEVENT
DTSTART;TZID=Europe/Berlin:20280624T230000
DTEND;TZID=Europe/Berlin:20280625T050000
DTSTAMP:20260420T232147
CREATED:20260417T084937Z
LAST-MODIFIED:20260417T085741Z
UID:10000133-1845500400-1845522000@riddim.world
SUMMARY:ONE - Dancehall x HipHop x Afrobeats @Cologne
DESCRIPTION:🌍 HIPHOP x DANCEHALL x AFROBEATS\n6 Years. One night. One fam­i­ly. 💥 #weare­one \n💃🏾 Start: 23:00 Uhr\n🎟️ Tick­ets: 10 € (VVK) | 12 € (AK)\n📍 Club Sub­way\, Aach­en­er Str. 82–84\, Köln \nLat­est updates: one.cgn (IG) \nFor over six years\, ONE has been bring­ing the hottest vibes from Dance­hall\, Afrobeats\, and HipHop to Club Sub­way.\nWhether it’s dances in the Jamaican yards or block par­ties in New York\, both share the same essence: com­mu­ni­ty\, pas­sion\, and music. \nOver time\, HipHop has become a dom­i­nant genre\, yet its roots are deeply inspired by Jamaica and its cul­ture. That’s why it only makes sense to bring them togeth­er on one par­ty floor:\nTwo styles that con­tin­u­ous­ly influ­ence each oth­er – yet remain one. \n💬 GIVE RESPECT\, GET RESPECT.\n🚫 No place for sex­ism\, racism\, vio­lence & hate. \n#ONEVibes #HipHop­Dance­hal­lAfrobeats #Colog­neNights #Sub­way­Cologne #Dance­hall­Cul­ture #Afrobeat­sToThe­World #HipHo­pLovers #Good­VibesOn­ly #CologneEvents #PartyAlert
URL:https://riddim.world/event/one-dancehall-x-hiphop-x-afrobeats-cologne/2028-06-24/
LOCATION:Club Subway\, Aachener Straße 82-84\, Cologne\, Germany
CATEGORIES:Party
ATTACH;FMTTYPE=image/png:https://riddim.world/wp-content/uploads/2026/04/Screenshot-2026-04-17-104428.png
END:VEVENT
BEGIN:VEVENT
DTSTART;TZID=Europe/Berlin:20280625T170000
DTEND;TZID=Europe/Berlin:20280625T235900
DTSTAMP:20260420T232147
CREATED:20260420T150558Z
LAST-MODIFIED:20260420T150558Z
UID:10000339-1845565200-1845590340@riddim.world
SUMMARY:Kingston Dub Club
DESCRIPTION:Rock Your Soul! Strict­ly Roots! \nEvery sun­day: 5pm — 12 am
URL:https://riddim.world/event/kingston-dub-club/2028-06-25/
LOCATION:Kingston Dub Club\, 7b Skyline Drive\, Kingston\, Kingston 6\, Jamaica
CATEGORIES:Party
ATTACH;FMTTYPE=image/jpeg:https://riddim.world/wp-content/uploads/2026/04/dub-club-real_AH_405DA543-BBB9-3ECB-7B1A546A3C89C2E6-405da4ca0d5d25c_405da7f5-a6af-cfa0-4bf0ddb12c04a735.jpg
END:VEVENT
BEGIN:VEVENT
DTSTART;TZID=Europe/Berlin:20280702T170000
DTEND;TZID=Europe/Berlin:20280702T235900
DTSTAMP:20260420T232147
CREATED:20260420T150558Z
LAST-MODIFIED:20260420T150558Z
UID:10000340-1846170000-1846195140@riddim.world
SUMMARY:Kingston Dub Club
DESCRIPTION:Rock Your Soul! Strict­ly Roots! \nEvery sun­day: 5pm — 12 am
URL:https://riddim.world/event/kingston-dub-club/2028-07-02/
LOCATION:Kingston Dub Club\, 7b Skyline Drive\, Kingston\, Kingston 6\, Jamaica
CATEGORIES:Party
ATTACH;FMTTYPE=image/jpeg:https://riddim.world/wp-content/uploads/2026/04/dub-club-real_AH_405DA543-BBB9-3ECB-7B1A546A3C89C2E6-405da4ca0d5d25c_405da7f5-a6af-cfa0-4bf0ddb12c04a735.jpg
END:VEVENT
BEGIN:VEVENT
DTSTART;TZID=Europe/Berlin:20280709T170000
DTEND;TZID=Europe/Berlin:20280709T235900
DTSTAMP:20260420T232147
CREATED:20260420T150558Z
LAST-MODIFIED:20260420T150558Z
UID:10000341-1846774800-1846799940@riddim.world
SUMMARY:Kingston Dub Club
DESCRIPTION:Rock Your Soul! Strict­ly Roots! \nEvery sun­day: 5pm — 12 am
URL:https://riddim.world/event/kingston-dub-club/2028-07-09/
LOCATION:Kingston Dub Club\, 7b Skyline Drive\, Kingston\, Kingston 6\, Jamaica
CATEGORIES:Party
ATTACH;FMTTYPE=image/jpeg:https://riddim.world/wp-content/uploads/2026/04/dub-club-real_AH_405DA543-BBB9-3ECB-7B1A546A3C89C2E6-405da4ca0d5d25c_405da7f5-a6af-cfa0-4bf0ddb12c04a735.jpg
END:VEVENT
BEGIN:VEVENT
DTSTART;TZID=Europe/Berlin:20280716T170000
DTEND;TZID=Europe/Berlin:20280716T235900
DTSTAMP:20260420T232147
CREATED:20260420T150558Z
LAST-MODIFIED:20260420T150558Z
UID:10000342-1847379600-1847404740@riddim.world
SUMMARY:Kingston Dub Club
DESCRIPTION:Rock Your Soul! Strict­ly Roots! \nEvery sun­day: 5pm — 12 am
URL:https://riddim.world/event/kingston-dub-club/2028-07-16/
LOCATION:Kingston Dub Club\, 7b Skyline Drive\, Kingston\, Kingston 6\, Jamaica
CATEGORIES:Party
ATTACH;FMTTYPE=image/jpeg:https://riddim.world/wp-content/uploads/2026/04/dub-club-real_AH_405DA543-BBB9-3ECB-7B1A546A3C89C2E6-405da4ca0d5d25c_405da7f5-a6af-cfa0-4bf0ddb12c04a735.jpg
END:VEVENT
BEGIN:VEVENT
DTSTART;TZID=Europe/Berlin:20280722T230000
DTEND;TZID=Europe/Berlin:20280723T050000
DTSTAMP:20260420T232147
CREATED:20260417T084937Z
LAST-MODIFIED:20260417T085741Z
UID:10000134-1847919600-1847941200@riddim.world
SUMMARY:ONE - Dancehall x HipHop x Afrobeats @Cologne
DESCRIPTION:🌍 HIPHOP x DANCEHALL x AFROBEATS\n6 Years. One night. One fam­i­ly. 💥 #weare­one \n💃🏾 Start: 23:00 Uhr\n🎟️ Tick­ets: 10 € (VVK) | 12 € (AK)\n📍 Club Sub­way\, Aach­en­er Str. 82–84\, Köln \nLat­est updates: one.cgn (IG) \nFor over six years\, ONE has been bring­ing the hottest vibes from Dance­hall\, Afrobeats\, and HipHop to Club Sub­way.\nWhether it’s dances in the Jamaican yards or block par­ties in New York\, both share the same essence: com­mu­ni­ty\, pas­sion\, and music. \nOver time\, HipHop has become a dom­i­nant genre\, yet its roots are deeply inspired by Jamaica and its cul­ture. That’s why it only makes sense to bring them togeth­er on one par­ty floor:\nTwo styles that con­tin­u­ous­ly influ­ence each oth­er – yet remain one. \n💬 GIVE RESPECT\, GET RESPECT.\n🚫 No place for sex­ism\, racism\, vio­lence & hate. \n#ONEVibes #HipHop­Dance­hal­lAfrobeats #Colog­neNights #Sub­way­Cologne #Dance­hall­Cul­ture #Afrobeat­sToThe­World #HipHo­pLovers #Good­VibesOn­ly #CologneEvents #PartyAlert
URL:https://riddim.world/event/one-dancehall-x-hiphop-x-afrobeats-cologne/2028-07-22/
LOCATION:Club Subway\, Aachener Straße 82-84\, Cologne\, Germany
CATEGORIES:Party
ATTACH;FMTTYPE=image/png:https://riddim.world/wp-content/uploads/2026/04/Screenshot-2026-04-17-104428.png
END:VEVENT
BEGIN:VEVENT
DTSTART;TZID=Europe/Berlin:20280723T170000
DTEND;TZID=Europe/Berlin:20280723T235900
DTSTAMP:20260420T232147
CREATED:20260420T150558Z
LAST-MODIFIED:20260420T150558Z
UID:10000343-1847984400-1848009540@riddim.world
SUMMARY:Kingston Dub Club
DESCRIPTION:Rock Your Soul! Strict­ly Roots! \nEvery sun­day: 5pm — 12 am
URL:https://riddim.world/event/kingston-dub-club/2028-07-23/
LOCATION:Kingston Dub Club\, 7b Skyline Drive\, Kingston\, Kingston 6\, Jamaica
CATEGORIES:Party
ATTACH;FMTTYPE=image/jpeg:https://riddim.world/wp-content/uploads/2026/04/dub-club-real_AH_405DA543-BBB9-3ECB-7B1A546A3C89C2E6-405da4ca0d5d25c_405da7f5-a6af-cfa0-4bf0ddb12c04a735.jpg
END:VEVENT
BEGIN:VEVENT
DTSTART;TZID=Europe/Berlin:20280730T170000
DTEND;TZID=Europe/Berlin:20280730T235900
DTSTAMP:20260420T232147
CREATED:20260420T150558Z
LAST-MODIFIED:20260420T150558Z
UID:10000344-1848589200-1848614340@riddim.world
SUMMARY:Kingston Dub Club
DESCRIPTION:Rock Your Soul! Strict­ly Roots! \nEvery sun­day: 5pm — 12 am
URL:https://riddim.world/event/kingston-dub-club/2028-07-30/
LOCATION:Kingston Dub Club\, 7b Skyline Drive\, Kingston\, Kingston 6\, Jamaica
CATEGORIES:Party
ATTACH;FMTTYPE=image/jpeg:https://riddim.world/wp-content/uploads/2026/04/dub-club-real_AH_405DA543-BBB9-3ECB-7B1A546A3C89C2E6-405da4ca0d5d25c_405da7f5-a6af-cfa0-4bf0ddb12c04a735.jpg
END:VEVENT
BEGIN:VEVENT
DTSTART;TZID=Europe/Berlin:20280806T170000
DTEND;TZID=Europe/Berlin:20280806T235900
DTSTAMP:20260420T232147
CREATED:20260420T150558Z
LAST-MODIFIED:20260420T150558Z
UID:10000345-1849194000-1849219140@riddim.world
SUMMARY:Kingston Dub Club
DESCRIPTION:Rock Your Soul! Strict­ly Roots! \nEvery sun­day: 5pm — 12 am
URL:https://riddim.world/event/kingston-dub-club/2028-08-06/
LOCATION:Kingston Dub Club\, 7b Skyline Drive\, Kingston\, Kingston 6\, Jamaica
CATEGORIES:Party
ATTACH;FMTTYPE=image/jpeg:https://riddim.world/wp-content/uploads/2026/04/dub-club-real_AH_405DA543-BBB9-3ECB-7B1A546A3C89C2E6-405da4ca0d5d25c_405da7f5-a6af-cfa0-4bf0ddb12c04a735.jpg
END:VEVENT
BEGIN:VEVENT
DTSTART;TZID=Europe/Berlin:20280813T170000
DTEND;TZID=Europe/Berlin:20280813T235900
DTSTAMP:20260420T232147
CREATED:20260420T150558Z
LAST-MODIFIED:20260420T150558Z
UID:10000346-1849798800-1849823940@riddim.world
SUMMARY:Kingston Dub Club
DESCRIPTION:Rock Your Soul! Strict­ly Roots! \nEvery sun­day: 5pm — 12 am
URL:https://riddim.world/event/kingston-dub-club/2028-08-13/
LOCATION:Kingston Dub Club\, 7b Skyline Drive\, Kingston\, Kingston 6\, Jamaica
CATEGORIES:Party
ATTACH;FMTTYPE=image/jpeg:https://riddim.world/wp-content/uploads/2026/04/dub-club-real_AH_405DA543-BBB9-3ECB-7B1A546A3C89C2E6-405da4ca0d5d25c_405da7f5-a6af-cfa0-4bf0ddb12c04a735.jpg
END:VEVENT
BEGIN:VEVENT
DTSTART;TZID=Europe/Berlin:20280820T170000
DTEND;TZID=Europe/Berlin:20280820T235900
DTSTAMP:20260420T232147
CREATED:20260420T150558Z
LAST-MODIFIED:20260420T150558Z
UID:10000347-1850403600-1850428740@riddim.world
SUMMARY:Kingston Dub Club
DESCRIPTION:Rock Your Soul! Strict­ly Roots! \nEvery sun­day: 5pm — 12 am
URL:https://riddim.world/event/kingston-dub-club/2028-08-20/
LOCATION:Kingston Dub Club\, 7b Skyline Drive\, Kingston\, Kingston 6\, Jamaica
CATEGORIES:Party
ATTACH;FMTTYPE=image/jpeg:https://riddim.world/wp-content/uploads/2026/04/dub-club-real_AH_405DA543-BBB9-3ECB-7B1A546A3C89C2E6-405da4ca0d5d25c_405da7f5-a6af-cfa0-4bf0ddb12c04a735.jpg
END:VEVENT
BEGIN:VEVENT
DTSTART;TZID=Europe/Berlin:20280826T230000
DTEND;TZID=Europe/Berlin:20280827T050000
DTSTAMP:20260420T232147
CREATED:20260417T084937Z
LAST-MODIFIED:20260417T085741Z
UID:10000135-1850943600-1850965200@riddim.world
SUMMARY:ONE - Dancehall x HipHop x Afrobeats @Cologne
DESCRIPTION:🌍 HIPHOP x DANCEHALL x AFROBEATS\n6 Years. One night. One fam­i­ly. 💥 #weare­one \n💃🏾 Start: 23:00 Uhr\n🎟️ Tick­ets: 10 € (VVK) | 12 € (AK)\n📍 Club Sub­way\, Aach­en­er Str. 82–84\, Köln \nLat­est updates: one.cgn (IG) \nFor over six years\, ONE has been bring­ing the hottest vibes from Dance­hall\, Afrobeats\, and HipHop to Club Sub­way.\nWhether it’s dances in the Jamaican yards or block par­ties in New York\, both share the same essence: com­mu­ni­ty\, pas­sion\, and music. \nOver time\, HipHop has become a dom­i­nant genre\, yet its roots are deeply inspired by Jamaica and its cul­ture. That’s why it only makes sense to bring them togeth­er on one par­ty floor:\nTwo styles that con­tin­u­ous­ly influ­ence each oth­er – yet remain one. \n💬 GIVE RESPECT\, GET RESPECT.\n🚫 No place for sex­ism\, racism\, vio­lence & hate. \n#ONEVibes #HipHop­Dance­hal­lAfrobeats #Colog­neNights #Sub­way­Cologne #Dance­hall­Cul­ture #Afrobeat­sToThe­World #HipHo­pLovers #Good­VibesOn­ly #CologneEvents #PartyAlert
URL:https://riddim.world/event/one-dancehall-x-hiphop-x-afrobeats-cologne/2028-08-26/
LOCATION:Club Subway\, Aachener Straße 82-84\, Cologne\, Germany
CATEGORIES:Party
ATTACH;FMTTYPE=image/png:https://riddim.world/wp-content/uploads/2026/04/Screenshot-2026-04-17-104428.png
END:VEVENT
BEGIN:VEVENT
DTSTART;TZID=Europe/Berlin:20280827T170000
DTEND;TZID=Europe/Berlin:20280827T235900
DTSTAMP:20260420T232147
CREATED:20260420T150558Z
LAST-MODIFIED:20260420T150558Z
UID:10000348-1851008400-1851033540@riddim.world
SUMMARY:Kingston Dub Club
DESCRIPTION:Rock Your Soul! Strict­ly Roots! \nEvery sun­day: 5pm — 12 am
URL:https://riddim.world/event/kingston-dub-club/2028-08-27/
LOCATION:Kingston Dub Club\, 7b Skyline Drive\, Kingston\, Kingston 6\, Jamaica
CATEGORIES:Party
ATTACH;FMTTYPE=image/jpeg:https://riddim.world/wp-content/uploads/2026/04/dub-club-real_AH_405DA543-BBB9-3ECB-7B1A546A3C89C2E6-405da4ca0d5d25c_405da7f5-a6af-cfa0-4bf0ddb12c04a735.jpg
END:VEVENT
BEGIN:VEVENT
DTSTART;TZID=Europe/Berlin:20280903T170000
DTEND;TZID=Europe/Berlin:20280903T235900
DTSTAMP:20260420T232147
CREATED:20260420T150558Z
LAST-MODIFIED:20260420T150558Z
UID:10000349-1851613200-1851638340@riddim.world
SUMMARY:Kingston Dub Club
DESCRIPTION:Rock Your Soul! Strict­ly Roots! \nEvery sun­day: 5pm — 12 am
URL:https://riddim.world/event/kingston-dub-club/2028-09-03/
LOCATION:Kingston Dub Club\, 7b Skyline Drive\, Kingston\, Kingston 6\, Jamaica
CATEGORIES:Party
ATTACH;FMTTYPE=image/jpeg:https://riddim.world/wp-content/uploads/2026/04/dub-club-real_AH_405DA543-BBB9-3ECB-7B1A546A3C89C2E6-405da4ca0d5d25c_405da7f5-a6af-cfa0-4bf0ddb12c04a735.jpg
END:VEVENT
BEGIN:VEVENT
DTSTART;TZID=Europe/Berlin:20280910T170000
DTEND;TZID=Europe/Berlin:20280910T235900
DTSTAMP:20260420T232147
CREATED:20260420T150558Z
LAST-MODIFIED:20260420T150558Z
UID:10000350-1852218000-1852243140@riddim.world
SUMMARY:Kingston Dub Club
DESCRIPTION:Rock Your Soul! Strict­ly Roots! \nEvery sun­day: 5pm — 12 am
URL:https://riddim.world/event/kingston-dub-club/2028-09-10/
LOCATION:Kingston Dub Club\, 7b Skyline Drive\, Kingston\, Kingston 6\, Jamaica
CATEGORIES:Party
ATTACH;FMTTYPE=image/jpeg:https://riddim.world/wp-content/uploads/2026/04/dub-club-real_AH_405DA543-BBB9-3ECB-7B1A546A3C89C2E6-405da4ca0d5d25c_405da7f5-a6af-cfa0-4bf0ddb12c04a735.jpg
END:VEVENT
BEGIN:VEVENT
DTSTART;TZID=Europe/Berlin:20280917T170000
DTEND;TZID=Europe/Berlin:20280917T235900
DTSTAMP:20260420T232147
CREATED:20260420T150558Z
LAST-MODIFIED:20260420T150558Z
UID:10000351-1852822800-1852847940@riddim.world
SUMMARY:Kingston Dub Club
DESCRIPTION:Rock Your Soul! Strict­ly Roots! \nEvery sun­day: 5pm — 12 am
URL:https://riddim.world/event/kingston-dub-club/2028-09-17/
LOCATION:Kingston Dub Club\, 7b Skyline Drive\, Kingston\, Kingston 6\, Jamaica
CATEGORIES:Party
ATTACH;FMTTYPE=image/jpeg:https://riddim.world/wp-content/uploads/2026/04/dub-club-real_AH_405DA543-BBB9-3ECB-7B1A546A3C89C2E6-405da4ca0d5d25c_405da7f5-a6af-cfa0-4bf0ddb12c04a735.jpg
END:VEVENT
BEGIN:VEVENT
DTSTART;TZID=Europe/Berlin:20280923T230000
DTEND;TZID=Europe/Berlin:20280924T050000
DTSTAMP:20260420T232147
CREATED:20260417T084937Z
LAST-MODIFIED:20260417T085741Z
UID:10000136-1853362800-1853384400@riddim.world
SUMMARY:ONE - Dancehall x HipHop x Afrobeats @Cologne
DESCRIPTION:🌍 HIPHOP x DANCEHALL x AFROBEATS\n6 Years. One night. One fam­i­ly. 💥 #weare­one \n💃🏾 Start: 23:00 Uhr\n🎟️ Tick­ets: 10 € (VVK) | 12 € (AK)\n📍 Club Sub­way\, Aach­en­er Str. 82–84\, Köln \nLat­est updates: one.cgn (IG) \nFor over six years\, ONE has been bring­ing the hottest vibes from Dance­hall\, Afrobeats\, and HipHop to Club Sub­way.\nWhether it’s dances in the Jamaican yards or block par­ties in New York\, both share the same essence: com­mu­ni­ty\, pas­sion\, and music. \nOver time\, HipHop has become a dom­i­nant genre\, yet its roots are deeply inspired by Jamaica and its cul­ture. That’s why it only makes sense to bring them togeth­er on one par­ty floor:\nTwo styles that con­tin­u­ous­ly influ­ence each oth­er – yet remain one. \n💬 GIVE RESPECT\, GET RESPECT.\n🚫 No place for sex­ism\, racism\, vio­lence & hate. \n#ONEVibes #HipHop­Dance­hal­lAfrobeats #Colog­neNights #Sub­way­Cologne #Dance­hall­Cul­ture #Afrobeat­sToThe­World #HipHo­pLovers #Good­VibesOn­ly #CologneEvents #PartyAlert
URL:https://riddim.world/event/one-dancehall-x-hiphop-x-afrobeats-cologne/2028-09-23/
LOCATION:Club Subway\, Aachener Straße 82-84\, Cologne\, Germany
CATEGORIES:Party
ATTACH;FMTTYPE=image/png:https://riddim.world/wp-content/uploads/2026/04/Screenshot-2026-04-17-104428.png
END:VEVENT
BEGIN:VEVENT
DTSTART;TZID=Europe/Berlin:20280924T170000
DTEND;TZID=Europe/Berlin:20280924T235900
DTSTAMP:20260420T232147
CREATED:20260420T150558Z
LAST-MODIFIED:20260420T150558Z
UID:10000352-1853427600-1853452740@riddim.world
SUMMARY:Kingston Dub Club
DESCRIPTION:Rock Your Soul! Strict­ly Roots! \nEvery sun­day: 5pm — 12 am
URL:https://riddim.world/event/kingston-dub-club/2028-09-24/
LOCATION:Kingston Dub Club\, 7b Skyline Drive\, Kingston\, Kingston 6\, Jamaica
CATEGORIES:Party
ATTACH;FMTTYPE=image/jpeg:https://riddim.world/wp-content/uploads/2026/04/dub-club-real_AH_405DA543-BBB9-3ECB-7B1A546A3C89C2E6-405da4ca0d5d25c_405da7f5-a6af-cfa0-4bf0ddb12c04a735.jpg
END:VEVENT
END:VCALENDAR