BEGIN:VCALENDAR
VERSION:2.0
PRODID:-//riddim Mag - ECPv6.15.20//NONSGML v1.0//EN
CALSCALE:GREGORIAN
METHOD:PUBLISH
X-ORIGINAL-URL:https://riddim.world
X-WR-CALDESC:Events for riddim Mag
REFRESH-INTERVAL;VALUE=DURATION:PT1H
X-Robots-Tag:noindex
X-PUBLISHED-TTL:PT1H
BEGIN:VTIMEZONE
TZID:Europe/Berlin
BEGIN:DAYLIGHT
TZOFFSETFROM:+0100
TZOFFSETTO:+0200
TZNAME:CEST
DTSTART:20280326T010000
END:DAYLIGHT
BEGIN:STANDARD
TZOFFSETFROM:+0200
TZOFFSETTO:+0100
TZNAME:CET
DTSTART:20281029T010000
END:STANDARD
BEGIN:DAYLIGHT
TZOFFSETFROM:+0100
TZOFFSETTO:+0200
TZNAME:CEST
DTSTART:20290325T010000
END:DAYLIGHT
BEGIN:STANDARD
TZOFFSETFROM:+0200
TZOFFSETTO:+0100
TZNAME:CET
DTSTART:20291028T010000
END:STANDARD
BEGIN:DAYLIGHT
TZOFFSETFROM:+0100
TZOFFSETTO:+0200
TZNAME:CEST
DTSTART:20300331T010000
END:DAYLIGHT
BEGIN:STANDARD
TZOFFSETFROM:+0200
TZOFFSETTO:+0100
TZNAME:CET
DTSTART:20301027T010000
END:STANDARD
BEGIN:DAYLIGHT
TZOFFSETFROM:+0100
TZOFFSETTO:+0200
TZNAME:CEST
DTSTART:20310330T010000
END:DAYLIGHT
BEGIN:STANDARD
TZOFFSETFROM:+0200
TZOFFSETTO:+0100
TZNAME:CET
DTSTART:20311026T010000
END:STANDARD
END:VTIMEZONE
BEGIN:VEVENT
DTSTART;TZID=Europe/Berlin:20291230T170000
DTEND;TZID=Europe/Berlin:20291230T235900
DTSTAMP:20260422T091606
CREATED:20260420T150558Z
LAST-MODIFIED:20260420T150558Z
UID:10000418-1893344400-1893369540@riddim.world
SUMMARY:Kingston Dub Club
DESCRIPTION:Rock Your Soul! Strict­ly Roots! \nEvery sun­day: 5pm — 12 am
URL:https://riddim.world/event/kingston-dub-club/2029-12-30/
LOCATION:Kingston Dub Club\, 7b Skyline Drive\, Kingston\, Kingston 6\, Jamaica
CATEGORIES:Party
ATTACH;FMTTYPE=image/jpeg:https://riddim.world/wp-content/uploads/2026/04/dub-club-real_AH_405DA543-BBB9-3ECB-7B1A546A3C89C2E6-405da4ca0d5d25c_405da7f5-a6af-cfa0-4bf0ddb12c04a735.jpg
END:VEVENT
BEGIN:VEVENT
DTSTART;TZID=Europe/Berlin:20300106T170000
DTEND;TZID=Europe/Berlin:20300106T235900
DTSTAMP:20260422T091606
CREATED:20260420T150558Z
LAST-MODIFIED:20260420T150558Z
UID:10000419-1893949200-1893974340@riddim.world
SUMMARY:Kingston Dub Club
DESCRIPTION:Rock Your Soul! Strict­ly Roots! \nEvery sun­day: 5pm — 12 am
URL:https://riddim.world/event/kingston-dub-club/2030-01-06/
LOCATION:Kingston Dub Club\, 7b Skyline Drive\, Kingston\, Kingston 6\, Jamaica
CATEGORIES:Party
ATTACH;FMTTYPE=image/jpeg:https://riddim.world/wp-content/uploads/2026/04/dub-club-real_AH_405DA543-BBB9-3ECB-7B1A546A3C89C2E6-405da4ca0d5d25c_405da7f5-a6af-cfa0-4bf0ddb12c04a735.jpg
END:VEVENT
BEGIN:VEVENT
DTSTART;TZID=Europe/Berlin:20300113T170000
DTEND;TZID=Europe/Berlin:20300113T235900
DTSTAMP:20260422T091606
CREATED:20260420T150558Z
LAST-MODIFIED:20260420T150558Z
UID:10000420-1894554000-1894579140@riddim.world
SUMMARY:Kingston Dub Club
DESCRIPTION:Rock Your Soul! Strict­ly Roots! \nEvery sun­day: 5pm — 12 am
URL:https://riddim.world/event/kingston-dub-club/2030-01-13/
LOCATION:Kingston Dub Club\, 7b Skyline Drive\, Kingston\, Kingston 6\, Jamaica
CATEGORIES:Party
ATTACH;FMTTYPE=image/jpeg:https://riddim.world/wp-content/uploads/2026/04/dub-club-real_AH_405DA543-BBB9-3ECB-7B1A546A3C89C2E6-405da4ca0d5d25c_405da7f5-a6af-cfa0-4bf0ddb12c04a735.jpg
END:VEVENT
BEGIN:VEVENT
DTSTART;TZID=Europe/Berlin:20300120T170000
DTEND;TZID=Europe/Berlin:20300120T235900
DTSTAMP:20260422T091606
CREATED:20260420T150558Z
LAST-MODIFIED:20260420T150558Z
UID:10000421-1895158800-1895183940@riddim.world
SUMMARY:Kingston Dub Club
DESCRIPTION:Rock Your Soul! Strict­ly Roots! \nEvery sun­day: 5pm — 12 am
URL:https://riddim.world/event/kingston-dub-club/2030-01-20/
LOCATION:Kingston Dub Club\, 7b Skyline Drive\, Kingston\, Kingston 6\, Jamaica
CATEGORIES:Party
ATTACH;FMTTYPE=image/jpeg:https://riddim.world/wp-content/uploads/2026/04/dub-club-real_AH_405DA543-BBB9-3ECB-7B1A546A3C89C2E6-405da4ca0d5d25c_405da7f5-a6af-cfa0-4bf0ddb12c04a735.jpg
END:VEVENT
BEGIN:VEVENT
DTSTART;TZID=Europe/Berlin:20300127T170000
DTEND;TZID=Europe/Berlin:20300127T235900
DTSTAMP:20260422T091606
CREATED:20260420T150558Z
LAST-MODIFIED:20260420T150558Z
UID:10000422-1895763600-1895788740@riddim.world
SUMMARY:Kingston Dub Club
DESCRIPTION:Rock Your Soul! Strict­ly Roots! \nEvery sun­day: 5pm — 12 am
URL:https://riddim.world/event/kingston-dub-club/2030-01-27/
LOCATION:Kingston Dub Club\, 7b Skyline Drive\, Kingston\, Kingston 6\, Jamaica
CATEGORIES:Party
ATTACH;FMTTYPE=image/jpeg:https://riddim.world/wp-content/uploads/2026/04/dub-club-real_AH_405DA543-BBB9-3ECB-7B1A546A3C89C2E6-405da4ca0d5d25c_405da7f5-a6af-cfa0-4bf0ddb12c04a735.jpg
END:VEVENT
BEGIN:VEVENT
DTSTART;TZID=Europe/Berlin:20300203T170000
DTEND;TZID=Europe/Berlin:20300203T235900
DTSTAMP:20260422T091606
CREATED:20260420T150558Z
LAST-MODIFIED:20260420T150558Z
UID:10000423-1896368400-1896393540@riddim.world
SUMMARY:Kingston Dub Club
DESCRIPTION:Rock Your Soul! Strict­ly Roots! \nEvery sun­day: 5pm — 12 am
URL:https://riddim.world/event/kingston-dub-club/2030-02-03/
LOCATION:Kingston Dub Club\, 7b Skyline Drive\, Kingston\, Kingston 6\, Jamaica
CATEGORIES:Party
ATTACH;FMTTYPE=image/jpeg:https://riddim.world/wp-content/uploads/2026/04/dub-club-real_AH_405DA543-BBB9-3ECB-7B1A546A3C89C2E6-405da4ca0d5d25c_405da7f5-a6af-cfa0-4bf0ddb12c04a735.jpg
END:VEVENT
BEGIN:VEVENT
DTSTART;TZID=Europe/Berlin:20300210T170000
DTEND;TZID=Europe/Berlin:20300210T235900
DTSTAMP:20260422T091606
CREATED:20260420T150558Z
LAST-MODIFIED:20260420T150558Z
UID:10000424-1896973200-1896998340@riddim.world
SUMMARY:Kingston Dub Club
DESCRIPTION:Rock Your Soul! Strict­ly Roots! \nEvery sun­day: 5pm — 12 am
URL:https://riddim.world/event/kingston-dub-club/2030-02-10/
LOCATION:Kingston Dub Club\, 7b Skyline Drive\, Kingston\, Kingston 6\, Jamaica
CATEGORIES:Party
ATTACH;FMTTYPE=image/jpeg:https://riddim.world/wp-content/uploads/2026/04/dub-club-real_AH_405DA543-BBB9-3ECB-7B1A546A3C89C2E6-405da4ca0d5d25c_405da7f5-a6af-cfa0-4bf0ddb12c04a735.jpg
END:VEVENT
BEGIN:VEVENT
DTSTART;TZID=Europe/Berlin:20300217T170000
DTEND;TZID=Europe/Berlin:20300217T235900
DTSTAMP:20260422T091606
CREATED:20260420T150558Z
LAST-MODIFIED:20260420T150558Z
UID:10000425-1897578000-1897603140@riddim.world
SUMMARY:Kingston Dub Club
DESCRIPTION:Rock Your Soul! Strict­ly Roots! \nEvery sun­day: 5pm — 12 am
URL:https://riddim.world/event/kingston-dub-club/2030-02-17/
LOCATION:Kingston Dub Club\, 7b Skyline Drive\, Kingston\, Kingston 6\, Jamaica
CATEGORIES:Party
ATTACH;FMTTYPE=image/jpeg:https://riddim.world/wp-content/uploads/2026/04/dub-club-real_AH_405DA543-BBB9-3ECB-7B1A546A3C89C2E6-405da4ca0d5d25c_405da7f5-a6af-cfa0-4bf0ddb12c04a735.jpg
END:VEVENT
BEGIN:VEVENT
DTSTART;TZID=Europe/Berlin:20300224T170000
DTEND;TZID=Europe/Berlin:20300224T235900
DTSTAMP:20260422T091606
CREATED:20260420T150558Z
LAST-MODIFIED:20260420T150558Z
UID:10000426-1898182800-1898207940@riddim.world
SUMMARY:Kingston Dub Club
DESCRIPTION:Rock Your Soul! Strict­ly Roots! \nEvery sun­day: 5pm — 12 am
URL:https://riddim.world/event/kingston-dub-club/2030-02-24/
LOCATION:Kingston Dub Club\, 7b Skyline Drive\, Kingston\, Kingston 6\, Jamaica
CATEGORIES:Party
ATTACH;FMTTYPE=image/jpeg:https://riddim.world/wp-content/uploads/2026/04/dub-club-real_AH_405DA543-BBB9-3ECB-7B1A546A3C89C2E6-405da4ca0d5d25c_405da7f5-a6af-cfa0-4bf0ddb12c04a735.jpg
END:VEVENT
BEGIN:VEVENT
DTSTART;TZID=Europe/Berlin:20300303T170000
DTEND;TZID=Europe/Berlin:20300303T235900
DTSTAMP:20260422T091606
CREATED:20260420T150558Z
LAST-MODIFIED:20260420T150558Z
UID:10000427-1898787600-1898812740@riddim.world
SUMMARY:Kingston Dub Club
DESCRIPTION:Rock Your Soul! Strict­ly Roots! \nEvery sun­day: 5pm — 12 am
URL:https://riddim.world/event/kingston-dub-club/2030-03-03/
LOCATION:Kingston Dub Club\, 7b Skyline Drive\, Kingston\, Kingston 6\, Jamaica
CATEGORIES:Party
ATTACH;FMTTYPE=image/jpeg:https://riddim.world/wp-content/uploads/2026/04/dub-club-real_AH_405DA543-BBB9-3ECB-7B1A546A3C89C2E6-405da4ca0d5d25c_405da7f5-a6af-cfa0-4bf0ddb12c04a735.jpg
END:VEVENT
BEGIN:VEVENT
DTSTART;TZID=Europe/Berlin:20300310T170000
DTEND;TZID=Europe/Berlin:20300310T235900
DTSTAMP:20260422T091606
CREATED:20260420T150558Z
LAST-MODIFIED:20260420T150558Z
UID:10000428-1899392400-1899417540@riddim.world
SUMMARY:Kingston Dub Club
DESCRIPTION:Rock Your Soul! Strict­ly Roots! \nEvery sun­day: 5pm — 12 am
URL:https://riddim.world/event/kingston-dub-club/2030-03-10/
LOCATION:Kingston Dub Club\, 7b Skyline Drive\, Kingston\, Kingston 6\, Jamaica
CATEGORIES:Party
ATTACH;FMTTYPE=image/jpeg:https://riddim.world/wp-content/uploads/2026/04/dub-club-real_AH_405DA543-BBB9-3ECB-7B1A546A3C89C2E6-405da4ca0d5d25c_405da7f5-a6af-cfa0-4bf0ddb12c04a735.jpg
END:VEVENT
BEGIN:VEVENT
DTSTART;TZID=Europe/Berlin:20300317T170000
DTEND;TZID=Europe/Berlin:20300317T235900
DTSTAMP:20260422T091606
CREATED:20260420T150558Z
LAST-MODIFIED:20260420T150558Z
UID:10000429-1899997200-1900022340@riddim.world
SUMMARY:Kingston Dub Club
DESCRIPTION:Rock Your Soul! Strict­ly Roots! \nEvery sun­day: 5pm — 12 am
URL:https://riddim.world/event/kingston-dub-club/2030-03-17/
LOCATION:Kingston Dub Club\, 7b Skyline Drive\, Kingston\, Kingston 6\, Jamaica
CATEGORIES:Party
ATTACH;FMTTYPE=image/jpeg:https://riddim.world/wp-content/uploads/2026/04/dub-club-real_AH_405DA543-BBB9-3ECB-7B1A546A3C89C2E6-405da4ca0d5d25c_405da7f5-a6af-cfa0-4bf0ddb12c04a735.jpg
END:VEVENT
BEGIN:VEVENT
DTSTART;TZID=Europe/Berlin:20300324T170000
DTEND;TZID=Europe/Berlin:20300324T235900
DTSTAMP:20260422T091606
CREATED:20260420T150558Z
LAST-MODIFIED:20260420T150558Z
UID:10000430-1900602000-1900627140@riddim.world
SUMMARY:Kingston Dub Club
DESCRIPTION:Rock Your Soul! Strict­ly Roots! \nEvery sun­day: 5pm — 12 am
URL:https://riddim.world/event/kingston-dub-club/2030-03-24/
LOCATION:Kingston Dub Club\, 7b Skyline Drive\, Kingston\, Kingston 6\, Jamaica
CATEGORIES:Party
ATTACH;FMTTYPE=image/jpeg:https://riddim.world/wp-content/uploads/2026/04/dub-club-real_AH_405DA543-BBB9-3ECB-7B1A546A3C89C2E6-405da4ca0d5d25c_405da7f5-a6af-cfa0-4bf0ddb12c04a735.jpg
END:VEVENT
BEGIN:VEVENT
DTSTART;TZID=Europe/Berlin:20300331T170000
DTEND;TZID=Europe/Berlin:20300331T235900
DTSTAMP:20260422T091606
CREATED:20260420T150558Z
LAST-MODIFIED:20260420T150558Z
UID:10000431-1901206800-1901231940@riddim.world
SUMMARY:Kingston Dub Club
DESCRIPTION:Rock Your Soul! Strict­ly Roots! \nEvery sun­day: 5pm — 12 am
URL:https://riddim.world/event/kingston-dub-club/2030-03-31/
LOCATION:Kingston Dub Club\, 7b Skyline Drive\, Kingston\, Kingston 6\, Jamaica
CATEGORIES:Party
ATTACH;FMTTYPE=image/jpeg:https://riddim.world/wp-content/uploads/2026/04/dub-club-real_AH_405DA543-BBB9-3ECB-7B1A546A3C89C2E6-405da4ca0d5d25c_405da7f5-a6af-cfa0-4bf0ddb12c04a735.jpg
END:VEVENT
BEGIN:VEVENT
DTSTART;TZID=Europe/Berlin:20300407T170000
DTEND;TZID=Europe/Berlin:20300407T235900
DTSTAMP:20260422T091606
CREATED:20260420T150558Z
LAST-MODIFIED:20260420T150558Z
UID:10000432-1901811600-1901836740@riddim.world
SUMMARY:Kingston Dub Club
DESCRIPTION:Rock Your Soul! Strict­ly Roots! \nEvery sun­day: 5pm — 12 am
URL:https://riddim.world/event/kingston-dub-club/2030-04-07/
LOCATION:Kingston Dub Club\, 7b Skyline Drive\, Kingston\, Kingston 6\, Jamaica
CATEGORIES:Party
ATTACH;FMTTYPE=image/jpeg:https://riddim.world/wp-content/uploads/2026/04/dub-club-real_AH_405DA543-BBB9-3ECB-7B1A546A3C89C2E6-405da4ca0d5d25c_405da7f5-a6af-cfa0-4bf0ddb12c04a735.jpg
END:VEVENT
BEGIN:VEVENT
DTSTART;TZID=Europe/Berlin:20300414T170000
DTEND;TZID=Europe/Berlin:20300414T235900
DTSTAMP:20260422T091606
CREATED:20260420T150558Z
LAST-MODIFIED:20260420T150558Z
UID:10000433-1902416400-1902441540@riddim.world
SUMMARY:Kingston Dub Club
DESCRIPTION:Rock Your Soul! Strict­ly Roots! \nEvery sun­day: 5pm — 12 am
URL:https://riddim.world/event/kingston-dub-club/2030-04-14/
LOCATION:Kingston Dub Club\, 7b Skyline Drive\, Kingston\, Kingston 6\, Jamaica
CATEGORIES:Party
ATTACH;FMTTYPE=image/jpeg:https://riddim.world/wp-content/uploads/2026/04/dub-club-real_AH_405DA543-BBB9-3ECB-7B1A546A3C89C2E6-405da4ca0d5d25c_405da7f5-a6af-cfa0-4bf0ddb12c04a735.jpg
END:VEVENT
BEGIN:VEVENT
DTSTART;TZID=Europe/Berlin:20300421T170000
DTEND;TZID=Europe/Berlin:20300421T235900
DTSTAMP:20260422T091606
CREATED:20260420T150558Z
LAST-MODIFIED:20260420T150558Z
UID:10000434-1903021200-1903046340@riddim.world
SUMMARY:Kingston Dub Club
DESCRIPTION:Rock Your Soul! Strict­ly Roots! \nEvery sun­day: 5pm — 12 am
URL:https://riddim.world/event/kingston-dub-club/2030-04-21/
LOCATION:Kingston Dub Club\, 7b Skyline Drive\, Kingston\, Kingston 6\, Jamaica
CATEGORIES:Party
ATTACH;FMTTYPE=image/jpeg:https://riddim.world/wp-content/uploads/2026/04/dub-club-real_AH_405DA543-BBB9-3ECB-7B1A546A3C89C2E6-405da4ca0d5d25c_405da7f5-a6af-cfa0-4bf0ddb12c04a735.jpg
END:VEVENT
BEGIN:VEVENT
DTSTART;TZID=Europe/Berlin:20300428T170000
DTEND;TZID=Europe/Berlin:20300428T235900
DTSTAMP:20260422T091606
CREATED:20260420T150558Z
LAST-MODIFIED:20260420T150558Z
UID:10000435-1903626000-1903651140@riddim.world
SUMMARY:Kingston Dub Club
DESCRIPTION:Rock Your Soul! Strict­ly Roots! \nEvery sun­day: 5pm — 12 am
URL:https://riddim.world/event/kingston-dub-club/2030-04-28/
LOCATION:Kingston Dub Club\, 7b Skyline Drive\, Kingston\, Kingston 6\, Jamaica
CATEGORIES:Party
ATTACH;FMTTYPE=image/jpeg:https://riddim.world/wp-content/uploads/2026/04/dub-club-real_AH_405DA543-BBB9-3ECB-7B1A546A3C89C2E6-405da4ca0d5d25c_405da7f5-a6af-cfa0-4bf0ddb12c04a735.jpg
END:VEVENT
BEGIN:VEVENT
DTSTART;TZID=Europe/Berlin:20300505T170000
DTEND;TZID=Europe/Berlin:20300505T235900
DTSTAMP:20260422T091606
CREATED:20260420T150558Z
LAST-MODIFIED:20260420T150558Z
UID:10000436-1904230800-1904255940@riddim.world
SUMMARY:Kingston Dub Club
DESCRIPTION:Rock Your Soul! Strict­ly Roots! \nEvery sun­day: 5pm — 12 am
URL:https://riddim.world/event/kingston-dub-club/2030-05-05/
LOCATION:Kingston Dub Club\, 7b Skyline Drive\, Kingston\, Kingston 6\, Jamaica
CATEGORIES:Party
ATTACH;FMTTYPE=image/jpeg:https://riddim.world/wp-content/uploads/2026/04/dub-club-real_AH_405DA543-BBB9-3ECB-7B1A546A3C89C2E6-405da4ca0d5d25c_405da7f5-a6af-cfa0-4bf0ddb12c04a735.jpg
END:VEVENT
BEGIN:VEVENT
DTSTART;TZID=Europe/Berlin:20300512T170000
DTEND;TZID=Europe/Berlin:20300512T235900
DTSTAMP:20260422T091606
CREATED:20260420T150558Z
LAST-MODIFIED:20260420T150558Z
UID:10000437-1904835600-1904860740@riddim.world
SUMMARY:Kingston Dub Club
DESCRIPTION:Rock Your Soul! Strict­ly Roots! \nEvery sun­day: 5pm — 12 am
URL:https://riddim.world/event/kingston-dub-club/2030-05-12/
LOCATION:Kingston Dub Club\, 7b Skyline Drive\, Kingston\, Kingston 6\, Jamaica
CATEGORIES:Party
ATTACH;FMTTYPE=image/jpeg:https://riddim.world/wp-content/uploads/2026/04/dub-club-real_AH_405DA543-BBB9-3ECB-7B1A546A3C89C2E6-405da4ca0d5d25c_405da7f5-a6af-cfa0-4bf0ddb12c04a735.jpg
END:VEVENT
BEGIN:VEVENT
DTSTART;TZID=Europe/Berlin:20300519T170000
DTEND;TZID=Europe/Berlin:20300519T235900
DTSTAMP:20260422T091606
CREATED:20260420T150558Z
LAST-MODIFIED:20260420T150558Z
UID:10000438-1905440400-1905465540@riddim.world
SUMMARY:Kingston Dub Club
DESCRIPTION:Rock Your Soul! Strict­ly Roots! \nEvery sun­day: 5pm — 12 am
URL:https://riddim.world/event/kingston-dub-club/2030-05-19/
LOCATION:Kingston Dub Club\, 7b Skyline Drive\, Kingston\, Kingston 6\, Jamaica
CATEGORIES:Party
ATTACH;FMTTYPE=image/jpeg:https://riddim.world/wp-content/uploads/2026/04/dub-club-real_AH_405DA543-BBB9-3ECB-7B1A546A3C89C2E6-405da4ca0d5d25c_405da7f5-a6af-cfa0-4bf0ddb12c04a735.jpg
END:VEVENT
BEGIN:VEVENT
DTSTART;TZID=Europe/Berlin:20300526T170000
DTEND;TZID=Europe/Berlin:20300526T235900
DTSTAMP:20260422T091606
CREATED:20260420T150558Z
LAST-MODIFIED:20260420T150558Z
UID:10000439-1906045200-1906070340@riddim.world
SUMMARY:Kingston Dub Club
DESCRIPTION:Rock Your Soul! Strict­ly Roots! \nEvery sun­day: 5pm — 12 am
URL:https://riddim.world/event/kingston-dub-club/2030-05-26/
LOCATION:Kingston Dub Club\, 7b Skyline Drive\, Kingston\, Kingston 6\, Jamaica
CATEGORIES:Party
ATTACH;FMTTYPE=image/jpeg:https://riddim.world/wp-content/uploads/2026/04/dub-club-real_AH_405DA543-BBB9-3ECB-7B1A546A3C89C2E6-405da4ca0d5d25c_405da7f5-a6af-cfa0-4bf0ddb12c04a735.jpg
END:VEVENT
BEGIN:VEVENT
DTSTART;TZID=Europe/Berlin:20300602T170000
DTEND;TZID=Europe/Berlin:20300602T235900
DTSTAMP:20260422T091606
CREATED:20260420T150558Z
LAST-MODIFIED:20260420T150558Z
UID:10000440-1906650000-1906675140@riddim.world
SUMMARY:Kingston Dub Club
DESCRIPTION:Rock Your Soul! Strict­ly Roots! \nEvery sun­day: 5pm — 12 am
URL:https://riddim.world/event/kingston-dub-club/2030-06-02/
LOCATION:Kingston Dub Club\, 7b Skyline Drive\, Kingston\, Kingston 6\, Jamaica
CATEGORIES:Party
ATTACH;FMTTYPE=image/jpeg:https://riddim.world/wp-content/uploads/2026/04/dub-club-real_AH_405DA543-BBB9-3ECB-7B1A546A3C89C2E6-405da4ca0d5d25c_405da7f5-a6af-cfa0-4bf0ddb12c04a735.jpg
END:VEVENT
BEGIN:VEVENT
DTSTART;TZID=Europe/Berlin:20300609T170000
DTEND;TZID=Europe/Berlin:20300609T235900
DTSTAMP:20260422T091606
CREATED:20260420T150558Z
LAST-MODIFIED:20260420T150558Z
UID:10000441-1907254800-1907279940@riddim.world
SUMMARY:Kingston Dub Club
DESCRIPTION:Rock Your Soul! Strict­ly Roots! \nEvery sun­day: 5pm — 12 am
URL:https://riddim.world/event/kingston-dub-club/2030-06-09/
LOCATION:Kingston Dub Club\, 7b Skyline Drive\, Kingston\, Kingston 6\, Jamaica
CATEGORIES:Party
ATTACH;FMTTYPE=image/jpeg:https://riddim.world/wp-content/uploads/2026/04/dub-club-real_AH_405DA543-BBB9-3ECB-7B1A546A3C89C2E6-405da4ca0d5d25c_405da7f5-a6af-cfa0-4bf0ddb12c04a735.jpg
END:VEVENT
BEGIN:VEVENT
DTSTART;TZID=Europe/Berlin:20300616T170000
DTEND;TZID=Europe/Berlin:20300616T235900
DTSTAMP:20260422T091606
CREATED:20260420T150558Z
LAST-MODIFIED:20260420T150558Z
UID:10000442-1907859600-1907884740@riddim.world
SUMMARY:Kingston Dub Club
DESCRIPTION:Rock Your Soul! Strict­ly Roots! \nEvery sun­day: 5pm — 12 am
URL:https://riddim.world/event/kingston-dub-club/2030-06-16/
LOCATION:Kingston Dub Club\, 7b Skyline Drive\, Kingston\, Kingston 6\, Jamaica
CATEGORIES:Party
ATTACH;FMTTYPE=image/jpeg:https://riddim.world/wp-content/uploads/2026/04/dub-club-real_AH_405DA543-BBB9-3ECB-7B1A546A3C89C2E6-405da4ca0d5d25c_405da7f5-a6af-cfa0-4bf0ddb12c04a735.jpg
END:VEVENT
BEGIN:VEVENT
DTSTART;TZID=Europe/Berlin:20300623T170000
DTEND;TZID=Europe/Berlin:20300623T235900
DTSTAMP:20260422T091606
CREATED:20260420T150558Z
LAST-MODIFIED:20260420T150558Z
UID:10000443-1908464400-1908489540@riddim.world
SUMMARY:Kingston Dub Club
DESCRIPTION:Rock Your Soul! Strict­ly Roots! \nEvery sun­day: 5pm — 12 am
URL:https://riddim.world/event/kingston-dub-club/2030-06-23/
LOCATION:Kingston Dub Club\, 7b Skyline Drive\, Kingston\, Kingston 6\, Jamaica
CATEGORIES:Party
ATTACH;FMTTYPE=image/jpeg:https://riddim.world/wp-content/uploads/2026/04/dub-club-real_AH_405DA543-BBB9-3ECB-7B1A546A3C89C2E6-405da4ca0d5d25c_405da7f5-a6af-cfa0-4bf0ddb12c04a735.jpg
END:VEVENT
BEGIN:VEVENT
DTSTART;TZID=Europe/Berlin:20300630T170000
DTEND;TZID=Europe/Berlin:20300630T235900
DTSTAMP:20260422T091606
CREATED:20260420T150558Z
LAST-MODIFIED:20260420T150558Z
UID:10000444-1909069200-1909094340@riddim.world
SUMMARY:Kingston Dub Club
DESCRIPTION:Rock Your Soul! Strict­ly Roots! \nEvery sun­day: 5pm — 12 am
URL:https://riddim.world/event/kingston-dub-club/2030-06-30/
LOCATION:Kingston Dub Club\, 7b Skyline Drive\, Kingston\, Kingston 6\, Jamaica
CATEGORIES:Party
ATTACH;FMTTYPE=image/jpeg:https://riddim.world/wp-content/uploads/2026/04/dub-club-real_AH_405DA543-BBB9-3ECB-7B1A546A3C89C2E6-405da4ca0d5d25c_405da7f5-a6af-cfa0-4bf0ddb12c04a735.jpg
END:VEVENT
BEGIN:VEVENT
DTSTART;TZID=Europe/Berlin:20300707T170000
DTEND;TZID=Europe/Berlin:20300707T235900
DTSTAMP:20260422T091606
CREATED:20260420T150558Z
LAST-MODIFIED:20260420T150558Z
UID:10000445-1909674000-1909699140@riddim.world
SUMMARY:Kingston Dub Club
DESCRIPTION:Rock Your Soul! Strict­ly Roots! \nEvery sun­day: 5pm — 12 am
URL:https://riddim.world/event/kingston-dub-club/2030-07-07/
LOCATION:Kingston Dub Club\, 7b Skyline Drive\, Kingston\, Kingston 6\, Jamaica
CATEGORIES:Party
ATTACH;FMTTYPE=image/jpeg:https://riddim.world/wp-content/uploads/2026/04/dub-club-real_AH_405DA543-BBB9-3ECB-7B1A546A3C89C2E6-405da4ca0d5d25c_405da7f5-a6af-cfa0-4bf0ddb12c04a735.jpg
END:VEVENT
BEGIN:VEVENT
DTSTART;TZID=Europe/Berlin:20300714T170000
DTEND;TZID=Europe/Berlin:20300714T235900
DTSTAMP:20260422T091606
CREATED:20260420T150558Z
LAST-MODIFIED:20260420T150558Z
UID:10000446-1910278800-1910303940@riddim.world
SUMMARY:Kingston Dub Club
DESCRIPTION:Rock Your Soul! Strict­ly Roots! \nEvery sun­day: 5pm — 12 am
URL:https://riddim.world/event/kingston-dub-club/2030-07-14/
LOCATION:Kingston Dub Club\, 7b Skyline Drive\, Kingston\, Kingston 6\, Jamaica
CATEGORIES:Party
ATTACH;FMTTYPE=image/jpeg:https://riddim.world/wp-content/uploads/2026/04/dub-club-real_AH_405DA543-BBB9-3ECB-7B1A546A3C89C2E6-405da4ca0d5d25c_405da7f5-a6af-cfa0-4bf0ddb12c04a735.jpg
END:VEVENT
BEGIN:VEVENT
DTSTART;TZID=Europe/Berlin:20300721T170000
DTEND;TZID=Europe/Berlin:20300721T235900
DTSTAMP:20260422T091606
CREATED:20260420T150558Z
LAST-MODIFIED:20260420T150558Z
UID:10000447-1910883600-1910908740@riddim.world
SUMMARY:Kingston Dub Club
DESCRIPTION:Rock Your Soul! Strict­ly Roots! \nEvery sun­day: 5pm — 12 am
URL:https://riddim.world/event/kingston-dub-club/2030-07-21/
LOCATION:Kingston Dub Club\, 7b Skyline Drive\, Kingston\, Kingston 6\, Jamaica
CATEGORIES:Party
ATTACH;FMTTYPE=image/jpeg:https://riddim.world/wp-content/uploads/2026/04/dub-club-real_AH_405DA543-BBB9-3ECB-7B1A546A3C89C2E6-405da4ca0d5d25c_405da7f5-a6af-cfa0-4bf0ddb12c04a735.jpg
END:VEVENT
END:VCALENDAR