BEGIN:VCALENDAR
VERSION:2.0
PRODID:-//riddim Mag - ECPv6.15.20//NONSGML v1.0//EN
CALSCALE:GREGORIAN
METHOD:PUBLISH
X-WR-CALNAME:riddim Mag
X-ORIGINAL-URL:https://riddim.world
X-WR-CALDESC:Veranstaltungen für riddim Mag
REFRESH-INTERVAL;VALUE=DURATION:PT1H
X-Robots-Tag:noindex
X-PUBLISHED-TTL:PT1H
BEGIN:VTIMEZONE
TZID:Europe/Berlin
BEGIN:DAYLIGHT
TZOFFSETFROM:+0100
TZOFFSETTO:+0200
TZNAME:CEST
DTSTART:20270328T010000
END:DAYLIGHT
BEGIN:STANDARD
TZOFFSETFROM:+0200
TZOFFSETTO:+0100
TZNAME:CET
DTSTART:20271031T010000
END:STANDARD
BEGIN:DAYLIGHT
TZOFFSETFROM:+0100
TZOFFSETTO:+0200
TZNAME:CEST
DTSTART:20280326T010000
END:DAYLIGHT
BEGIN:STANDARD
TZOFFSETFROM:+0200
TZOFFSETTO:+0100
TZNAME:CET
DTSTART:20281029T010000
END:STANDARD
BEGIN:DAYLIGHT
TZOFFSETFROM:+0100
TZOFFSETTO:+0200
TZNAME:CEST
DTSTART:20290325T010000
END:DAYLIGHT
BEGIN:STANDARD
TZOFFSETFROM:+0200
TZOFFSETTO:+0100
TZNAME:CET
DTSTART:20291028T010000
END:STANDARD
BEGIN:DAYLIGHT
TZOFFSETFROM:+0100
TZOFFSETTO:+0200
TZNAME:CEST
DTSTART:20300331T010000
END:DAYLIGHT
BEGIN:STANDARD
TZOFFSETFROM:+0200
TZOFFSETTO:+0100
TZNAME:CET
DTSTART:20301027T010000
END:STANDARD
END:VTIMEZONE
BEGIN:VEVENT
DTSTART;TZID=Europe/Berlin:20281015T170000
DTEND;TZID=Europe/Berlin:20281015T235900
DTSTAMP:20260423T030520
CREATED:20260420T150813Z
LAST-MODIFIED:20260420T150813Z
UID:10000617-1855242000-1855267140@riddim.world
SUMMARY:Kingston Dub Club
DESCRIPTION:Rock Your Soul! Strict­ly Roots! \nEvery sun­day: 5pm — 12 am
URL:https://riddim.world/event/kingston-dub-club/2028-10-15/
LOCATION:Kingston Dub Club\, 7b Skyline Drive\, Kingston\, Kingston 6\, Jamaica
CATEGORIES:Party
ATTACH;FMTTYPE=image/jpeg:https://riddim.world/wp-content/uploads/2026/04/dub-club-real_AH_405DA543-BBB9-3ECB-7B1A546A3C89C2E6-405da4ca0d5d25c_405da7f5-a6af-cfa0-4bf0ddb12c04a735.jpg
END:VEVENT
BEGIN:VEVENT
DTSTART;TZID=Europe/Berlin:20281022T170000
DTEND;TZID=Europe/Berlin:20281022T235900
DTSTAMP:20260423T030520
CREATED:20260420T150813Z
LAST-MODIFIED:20260420T150813Z
UID:10000618-1855846800-1855871940@riddim.world
SUMMARY:Kingston Dub Club
DESCRIPTION:Rock Your Soul! Strict­ly Roots! \nEvery sun­day: 5pm — 12 am
URL:https://riddim.world/event/kingston-dub-club/2028-10-22/
LOCATION:Kingston Dub Club\, 7b Skyline Drive\, Kingston\, Kingston 6\, Jamaica
CATEGORIES:Party
ATTACH;FMTTYPE=image/jpeg:https://riddim.world/wp-content/uploads/2026/04/dub-club-real_AH_405DA543-BBB9-3ECB-7B1A546A3C89C2E6-405da4ca0d5d25c_405da7f5-a6af-cfa0-4bf0ddb12c04a735.jpg
END:VEVENT
BEGIN:VEVENT
DTSTART;TZID=Europe/Berlin:20281028T230000
DTEND;TZID=Europe/Berlin:20281029T040000
DTSTAMP:20260423T030520
CREATED:20260417T084523Z
LAST-MODIFIED:20260417T085839Z
UID:10000196-1856386800-1856404800@riddim.world
SUMMARY:ONE - Dancehall x HipHop x Afrobeats @Köln
DESCRIPTION:🌍 HIPHOP x DANCEHALL x AFROBEATS\n6 Years. One night. One fam­i­ly. 💥 #weare­one \n💃🏾 Start: 23:00 Uhr\n🎟️ Tick­ets: 10 € (VVK) | 12 € (AK)\n📍 Club Sub­way\, Aach­en­er Str. 82–84\, Köln \nAktuelle Infos: one.cgn (IG) \nSeit über sechs Jahren bringt ONE die heißesten Vibes aus Dance­hall\, Afrobeats und HipHop in den Club Sub­way.\nOb Dances in den jamaikanis­chen Yards oder Block Par­tys in New York – bei­de verbindet das­selbe: die Com­mu­ni­ty\, die Lei­den­schaft und die Musik. \nHipHop hat sich über die Jahre zum dom­i­nan­ten Genre entwick­elt\, doch seine Wurzeln liegen tief in Jamai­ka und sein­er Kul­tur. Deshalb ist es für uns nur logisch\, bei­des auf ein­er Par­ty zusam­men­zubrin­gen:\nZwei Styles\, die sich immer wieder gegen­seit­ig inspiri­eren – und trotz­dem eins sind. \n💬 GIVE RESPECT\, GET RESPECT.\n🚫 No place for sex­ism\, racism\, vio­lence & hate. \n#ONEVibes #HipHop­Dance­hal­lAfrobeats #Colog­neNights #Sub­way­Cologne #Dance­hall­Cul­ture #Afrobeat­sToThe­World #HipHo­pLovers #Good­VibesOn­ly #CologneEvents #PartyAlert
URL:https://riddim.world/event/one-dancehall-x-hiphop-x-afrobeats-koeln/2028-10-28/
LOCATION:Subway Club\, Aachener Straße 82-84\, Cologne\, Germany
CATEGORIES:Party
ATTACH;FMTTYPE=image/png:https://riddim.world/wp-content/uploads/2026/04/Screenshot-2026-04-17-104428.png
END:VEVENT
BEGIN:VEVENT
DTSTART;TZID=Europe/Berlin:20281029T170000
DTEND;TZID=Europe/Berlin:20281029T235900
DTSTAMP:20260423T030520
CREATED:20260420T150813Z
LAST-MODIFIED:20260420T150813Z
UID:10000619-1856451600-1856476740@riddim.world
SUMMARY:Kingston Dub Club
DESCRIPTION:Rock Your Soul! Strict­ly Roots! \nEvery sun­day: 5pm — 12 am
URL:https://riddim.world/event/kingston-dub-club/2028-10-29/
LOCATION:Kingston Dub Club\, 7b Skyline Drive\, Kingston\, Kingston 6\, Jamaica
CATEGORIES:Party
ATTACH;FMTTYPE=image/jpeg:https://riddim.world/wp-content/uploads/2026/04/dub-club-real_AH_405DA543-BBB9-3ECB-7B1A546A3C89C2E6-405da4ca0d5d25c_405da7f5-a6af-cfa0-4bf0ddb12c04a735.jpg
END:VEVENT
BEGIN:VEVENT
DTSTART;TZID=Europe/Berlin:20281105T170000
DTEND;TZID=Europe/Berlin:20281105T235900
DTSTAMP:20260423T030520
CREATED:20260420T150813Z
LAST-MODIFIED:20260420T150813Z
UID:10000620-1857056400-1857081540@riddim.world
SUMMARY:Kingston Dub Club
DESCRIPTION:Rock Your Soul! Strict­ly Roots! \nEvery sun­day: 5pm — 12 am
URL:https://riddim.world/event/kingston-dub-club/2028-11-05/
LOCATION:Kingston Dub Club\, 7b Skyline Drive\, Kingston\, Kingston 6\, Jamaica
CATEGORIES:Party
ATTACH;FMTTYPE=image/jpeg:https://riddim.world/wp-content/uploads/2026/04/dub-club-real_AH_405DA543-BBB9-3ECB-7B1A546A3C89C2E6-405da4ca0d5d25c_405da7f5-a6af-cfa0-4bf0ddb12c04a735.jpg
END:VEVENT
BEGIN:VEVENT
DTSTART;TZID=Europe/Berlin:20281112T170000
DTEND;TZID=Europe/Berlin:20281112T235900
DTSTAMP:20260423T030520
CREATED:20260420T150813Z
LAST-MODIFIED:20260420T150813Z
UID:10000621-1857661200-1857686340@riddim.world
SUMMARY:Kingston Dub Club
DESCRIPTION:Rock Your Soul! Strict­ly Roots! \nEvery sun­day: 5pm — 12 am
URL:https://riddim.world/event/kingston-dub-club/2028-11-12/
LOCATION:Kingston Dub Club\, 7b Skyline Drive\, Kingston\, Kingston 6\, Jamaica
CATEGORIES:Party
ATTACH;FMTTYPE=image/jpeg:https://riddim.world/wp-content/uploads/2026/04/dub-club-real_AH_405DA543-BBB9-3ECB-7B1A546A3C89C2E6-405da4ca0d5d25c_405da7f5-a6af-cfa0-4bf0ddb12c04a735.jpg
END:VEVENT
BEGIN:VEVENT
DTSTART;TZID=Europe/Berlin:20281119T170000
DTEND;TZID=Europe/Berlin:20281119T235900
DTSTAMP:20260423T030520
CREATED:20260420T150813Z
LAST-MODIFIED:20260420T150813Z
UID:10000622-1858266000-1858291140@riddim.world
SUMMARY:Kingston Dub Club
DESCRIPTION:Rock Your Soul! Strict­ly Roots! \nEvery sun­day: 5pm — 12 am
URL:https://riddim.world/event/kingston-dub-club/2028-11-19/
LOCATION:Kingston Dub Club\, 7b Skyline Drive\, Kingston\, Kingston 6\, Jamaica
CATEGORIES:Party
ATTACH;FMTTYPE=image/jpeg:https://riddim.world/wp-content/uploads/2026/04/dub-club-real_AH_405DA543-BBB9-3ECB-7B1A546A3C89C2E6-405da4ca0d5d25c_405da7f5-a6af-cfa0-4bf0ddb12c04a735.jpg
END:VEVENT
BEGIN:VEVENT
DTSTART;TZID=Europe/Berlin:20281125T230000
DTEND;TZID=Europe/Berlin:20281126T050000
DTSTAMP:20260423T030520
CREATED:20260417T084523Z
LAST-MODIFIED:20260417T085839Z
UID:10000197-1858806000-1858827600@riddim.world
SUMMARY:ONE - Dancehall x HipHop x Afrobeats @Köln
DESCRIPTION:🌍 HIPHOP x DANCEHALL x AFROBEATS\n6 Years. One night. One fam­i­ly. 💥 #weare­one \n💃🏾 Start: 23:00 Uhr\n🎟️ Tick­ets: 10 € (VVK) | 12 € (AK)\n📍 Club Sub­way\, Aach­en­er Str. 82–84\, Köln \nAktuelle Infos: one.cgn (IG) \nSeit über sechs Jahren bringt ONE die heißesten Vibes aus Dance­hall\, Afrobeats und HipHop in den Club Sub­way.\nOb Dances in den jamaikanis­chen Yards oder Block Par­tys in New York – bei­de verbindet das­selbe: die Com­mu­ni­ty\, die Lei­den­schaft und die Musik. \nHipHop hat sich über die Jahre zum dom­i­nan­ten Genre entwick­elt\, doch seine Wurzeln liegen tief in Jamai­ka und sein­er Kul­tur. Deshalb ist es für uns nur logisch\, bei­des auf ein­er Par­ty zusam­men­zubrin­gen:\nZwei Styles\, die sich immer wieder gegen­seit­ig inspiri­eren – und trotz­dem eins sind. \n💬 GIVE RESPECT\, GET RESPECT.\n🚫 No place for sex­ism\, racism\, vio­lence & hate. \n#ONEVibes #HipHop­Dance­hal­lAfrobeats #Colog­neNights #Sub­way­Cologne #Dance­hall­Cul­ture #Afrobeat­sToThe­World #HipHo­pLovers #Good­VibesOn­ly #CologneEvents #PartyAlert
URL:https://riddim.world/event/one-dancehall-x-hiphop-x-afrobeats-koeln/2028-11-25/
LOCATION:Subway Club\, Aachener Straße 82-84\, Cologne\, Germany
CATEGORIES:Party
ATTACH;FMTTYPE=image/png:https://riddim.world/wp-content/uploads/2026/04/Screenshot-2026-04-17-104428.png
END:VEVENT
BEGIN:VEVENT
DTSTART;TZID=Europe/Berlin:20281126T170000
DTEND;TZID=Europe/Berlin:20281126T235900
DTSTAMP:20260423T030520
CREATED:20260420T150813Z
LAST-MODIFIED:20260420T150813Z
UID:10000623-1858870800-1858895940@riddim.world
SUMMARY:Kingston Dub Club
DESCRIPTION:Rock Your Soul! Strict­ly Roots! \nEvery sun­day: 5pm — 12 am
URL:https://riddim.world/event/kingston-dub-club/2028-11-26/
LOCATION:Kingston Dub Club\, 7b Skyline Drive\, Kingston\, Kingston 6\, Jamaica
CATEGORIES:Party
ATTACH;FMTTYPE=image/jpeg:https://riddim.world/wp-content/uploads/2026/04/dub-club-real_AH_405DA543-BBB9-3ECB-7B1A546A3C89C2E6-405da4ca0d5d25c_405da7f5-a6af-cfa0-4bf0ddb12c04a735.jpg
END:VEVENT
BEGIN:VEVENT
DTSTART;TZID=Europe/Berlin:20281203T170000
DTEND;TZID=Europe/Berlin:20281203T235900
DTSTAMP:20260423T030520
CREATED:20260420T150813Z
LAST-MODIFIED:20260420T150813Z
UID:10000624-1859475600-1859500740@riddim.world
SUMMARY:Kingston Dub Club
DESCRIPTION:Rock Your Soul! Strict­ly Roots! \nEvery sun­day: 5pm — 12 am
URL:https://riddim.world/event/kingston-dub-club/2028-12-03/
LOCATION:Kingston Dub Club\, 7b Skyline Drive\, Kingston\, Kingston 6\, Jamaica
CATEGORIES:Party
ATTACH;FMTTYPE=image/jpeg:https://riddim.world/wp-content/uploads/2026/04/dub-club-real_AH_405DA543-BBB9-3ECB-7B1A546A3C89C2E6-405da4ca0d5d25c_405da7f5-a6af-cfa0-4bf0ddb12c04a735.jpg
END:VEVENT
BEGIN:VEVENT
DTSTART;TZID=Europe/Berlin:20281210T170000
DTEND;TZID=Europe/Berlin:20281210T235900
DTSTAMP:20260423T030520
CREATED:20260420T150813Z
LAST-MODIFIED:20260420T150813Z
UID:10000625-1860080400-1860105540@riddim.world
SUMMARY:Kingston Dub Club
DESCRIPTION:Rock Your Soul! Strict­ly Roots! \nEvery sun­day: 5pm — 12 am
URL:https://riddim.world/event/kingston-dub-club/2028-12-10/
LOCATION:Kingston Dub Club\, 7b Skyline Drive\, Kingston\, Kingston 6\, Jamaica
CATEGORIES:Party
ATTACH;FMTTYPE=image/jpeg:https://riddim.world/wp-content/uploads/2026/04/dub-club-real_AH_405DA543-BBB9-3ECB-7B1A546A3C89C2E6-405da4ca0d5d25c_405da7f5-a6af-cfa0-4bf0ddb12c04a735.jpg
END:VEVENT
BEGIN:VEVENT
DTSTART;TZID=Europe/Berlin:20281217T170000
DTEND;TZID=Europe/Berlin:20281217T235900
DTSTAMP:20260423T030520
CREATED:20260420T150813Z
LAST-MODIFIED:20260420T150813Z
UID:10000626-1860685200-1860710340@riddim.world
SUMMARY:Kingston Dub Club
DESCRIPTION:Rock Your Soul! Strict­ly Roots! \nEvery sun­day: 5pm — 12 am
URL:https://riddim.world/event/kingston-dub-club/2028-12-17/
LOCATION:Kingston Dub Club\, 7b Skyline Drive\, Kingston\, Kingston 6\, Jamaica
CATEGORIES:Party
ATTACH;FMTTYPE=image/jpeg:https://riddim.world/wp-content/uploads/2026/04/dub-club-real_AH_405DA543-BBB9-3ECB-7B1A546A3C89C2E6-405da4ca0d5d25c_405da7f5-a6af-cfa0-4bf0ddb12c04a735.jpg
END:VEVENT
BEGIN:VEVENT
DTSTART;TZID=Europe/Berlin:20281223T230000
DTEND;TZID=Europe/Berlin:20281224T050000
DTSTAMP:20260423T030520
CREATED:20260417T084523Z
LAST-MODIFIED:20260417T085839Z
UID:10000198-1861225200-1861246800@riddim.world
SUMMARY:ONE - Dancehall x HipHop x Afrobeats @Köln
DESCRIPTION:🌍 HIPHOP x DANCEHALL x AFROBEATS\n6 Years. One night. One fam­i­ly. 💥 #weare­one \n💃🏾 Start: 23:00 Uhr\n🎟️ Tick­ets: 10 € (VVK) | 12 € (AK)\n📍 Club Sub­way\, Aach­en­er Str. 82–84\, Köln \nAktuelle Infos: one.cgn (IG) \nSeit über sechs Jahren bringt ONE die heißesten Vibes aus Dance­hall\, Afrobeats und HipHop in den Club Sub­way.\nOb Dances in den jamaikanis­chen Yards oder Block Par­tys in New York – bei­de verbindet das­selbe: die Com­mu­ni­ty\, die Lei­den­schaft und die Musik. \nHipHop hat sich über die Jahre zum dom­i­nan­ten Genre entwick­elt\, doch seine Wurzeln liegen tief in Jamai­ka und sein­er Kul­tur. Deshalb ist es für uns nur logisch\, bei­des auf ein­er Par­ty zusam­men­zubrin­gen:\nZwei Styles\, die sich immer wieder gegen­seit­ig inspiri­eren – und trotz­dem eins sind. \n💬 GIVE RESPECT\, GET RESPECT.\n🚫 No place for sex­ism\, racism\, vio­lence & hate. \n#ONEVibes #HipHop­Dance­hal­lAfrobeats #Colog­neNights #Sub­way­Cologne #Dance­hall­Cul­ture #Afrobeat­sToThe­World #HipHo­pLovers #Good­VibesOn­ly #CologneEvents #PartyAlert
URL:https://riddim.world/event/one-dancehall-x-hiphop-x-afrobeats-koeln/2028-12-23/
LOCATION:Subway Club\, Aachener Straße 82-84\, Cologne\, Germany
CATEGORIES:Party
ATTACH;FMTTYPE=image/png:https://riddim.world/wp-content/uploads/2026/04/Screenshot-2026-04-17-104428.png
END:VEVENT
BEGIN:VEVENT
DTSTART;TZID=Europe/Berlin:20281224T170000
DTEND;TZID=Europe/Berlin:20281224T235900
DTSTAMP:20260423T030520
CREATED:20260420T150813Z
LAST-MODIFIED:20260420T150813Z
UID:10000627-1861290000-1861315140@riddim.world
SUMMARY:Kingston Dub Club
DESCRIPTION:Rock Your Soul! Strict­ly Roots! \nEvery sun­day: 5pm — 12 am
URL:https://riddim.world/event/kingston-dub-club/2028-12-24/
LOCATION:Kingston Dub Club\, 7b Skyline Drive\, Kingston\, Kingston 6\, Jamaica
CATEGORIES:Party
ATTACH;FMTTYPE=image/jpeg:https://riddim.world/wp-content/uploads/2026/04/dub-club-real_AH_405DA543-BBB9-3ECB-7B1A546A3C89C2E6-405da4ca0d5d25c_405da7f5-a6af-cfa0-4bf0ddb12c04a735.jpg
END:VEVENT
BEGIN:VEVENT
DTSTART;TZID=Europe/Berlin:20281231T170000
DTEND;TZID=Europe/Berlin:20281231T235900
DTSTAMP:20260423T030520
CREATED:20260420T150813Z
LAST-MODIFIED:20260420T150813Z
UID:10000628-1861894800-1861919940@riddim.world
SUMMARY:Kingston Dub Club
DESCRIPTION:Rock Your Soul! Strict­ly Roots! \nEvery sun­day: 5pm — 12 am
URL:https://riddim.world/event/kingston-dub-club/2028-12-31/
LOCATION:Kingston Dub Club\, 7b Skyline Drive\, Kingston\, Kingston 6\, Jamaica
CATEGORIES:Party
ATTACH;FMTTYPE=image/jpeg:https://riddim.world/wp-content/uploads/2026/04/dub-club-real_AH_405DA543-BBB9-3ECB-7B1A546A3C89C2E6-405da4ca0d5d25c_405da7f5-a6af-cfa0-4bf0ddb12c04a735.jpg
END:VEVENT
BEGIN:VEVENT
DTSTART;TZID=Europe/Berlin:20290107T170000
DTEND;TZID=Europe/Berlin:20290107T235900
DTSTAMP:20260423T030520
CREATED:20260420T150813Z
LAST-MODIFIED:20260420T150813Z
UID:10000629-1862499600-1862524740@riddim.world
SUMMARY:Kingston Dub Club
DESCRIPTION:Rock Your Soul! Strict­ly Roots! \nEvery sun­day: 5pm — 12 am
URL:https://riddim.world/event/kingston-dub-club/2029-01-07/
LOCATION:Kingston Dub Club\, 7b Skyline Drive\, Kingston\, Kingston 6\, Jamaica
CATEGORIES:Party
ATTACH;FMTTYPE=image/jpeg:https://riddim.world/wp-content/uploads/2026/04/dub-club-real_AH_405DA543-BBB9-3ECB-7B1A546A3C89C2E6-405da4ca0d5d25c_405da7f5-a6af-cfa0-4bf0ddb12c04a735.jpg
END:VEVENT
BEGIN:VEVENT
DTSTART;TZID=Europe/Berlin:20290114T170000
DTEND;TZID=Europe/Berlin:20290114T235900
DTSTAMP:20260423T030520
CREATED:20260420T150813Z
LAST-MODIFIED:20260420T150813Z
UID:10000630-1863104400-1863129540@riddim.world
SUMMARY:Kingston Dub Club
DESCRIPTION:Rock Your Soul! Strict­ly Roots! \nEvery sun­day: 5pm — 12 am
URL:https://riddim.world/event/kingston-dub-club/2029-01-14/
LOCATION:Kingston Dub Club\, 7b Skyline Drive\, Kingston\, Kingston 6\, Jamaica
CATEGORIES:Party
ATTACH;FMTTYPE=image/jpeg:https://riddim.world/wp-content/uploads/2026/04/dub-club-real_AH_405DA543-BBB9-3ECB-7B1A546A3C89C2E6-405da4ca0d5d25c_405da7f5-a6af-cfa0-4bf0ddb12c04a735.jpg
END:VEVENT
BEGIN:VEVENT
DTSTART;TZID=Europe/Berlin:20290121T170000
DTEND;TZID=Europe/Berlin:20290121T235900
DTSTAMP:20260423T030520
CREATED:20260420T150813Z
LAST-MODIFIED:20260420T150813Z
UID:10000631-1863709200-1863734340@riddim.world
SUMMARY:Kingston Dub Club
DESCRIPTION:Rock Your Soul! Strict­ly Roots! \nEvery sun­day: 5pm — 12 am
URL:https://riddim.world/event/kingston-dub-club/2029-01-21/
LOCATION:Kingston Dub Club\, 7b Skyline Drive\, Kingston\, Kingston 6\, Jamaica
CATEGORIES:Party
ATTACH;FMTTYPE=image/jpeg:https://riddim.world/wp-content/uploads/2026/04/dub-club-real_AH_405DA543-BBB9-3ECB-7B1A546A3C89C2E6-405da4ca0d5d25c_405da7f5-a6af-cfa0-4bf0ddb12c04a735.jpg
END:VEVENT
BEGIN:VEVENT
DTSTART;TZID=Europe/Berlin:20290127T230000
DTEND;TZID=Europe/Berlin:20290128T050000
DTSTAMP:20260423T030520
CREATED:20260417T084523Z
LAST-MODIFIED:20260417T085839Z
UID:10000199-1864249200-1864270800@riddim.world
SUMMARY:ONE - Dancehall x HipHop x Afrobeats @Köln
DESCRIPTION:🌍 HIPHOP x DANCEHALL x AFROBEATS\n6 Years. One night. One fam­i­ly. 💥 #weare­one \n💃🏾 Start: 23:00 Uhr\n🎟️ Tick­ets: 10 € (VVK) | 12 € (AK)\n📍 Club Sub­way\, Aach­en­er Str. 82–84\, Köln \nAktuelle Infos: one.cgn (IG) \nSeit über sechs Jahren bringt ONE die heißesten Vibes aus Dance­hall\, Afrobeats und HipHop in den Club Sub­way.\nOb Dances in den jamaikanis­chen Yards oder Block Par­tys in New York – bei­de verbindet das­selbe: die Com­mu­ni­ty\, die Lei­den­schaft und die Musik. \nHipHop hat sich über die Jahre zum dom­i­nan­ten Genre entwick­elt\, doch seine Wurzeln liegen tief in Jamai­ka und sein­er Kul­tur. Deshalb ist es für uns nur logisch\, bei­des auf ein­er Par­ty zusam­men­zubrin­gen:\nZwei Styles\, die sich immer wieder gegen­seit­ig inspiri­eren – und trotz­dem eins sind. \n💬 GIVE RESPECT\, GET RESPECT.\n🚫 No place for sex­ism\, racism\, vio­lence & hate. \n#ONEVibes #HipHop­Dance­hal­lAfrobeats #Colog­neNights #Sub­way­Cologne #Dance­hall­Cul­ture #Afrobeat­sToThe­World #HipHo­pLovers #Good­VibesOn­ly #CologneEvents #PartyAlert
URL:https://riddim.world/event/one-dancehall-x-hiphop-x-afrobeats-koeln/2029-01-27/
LOCATION:Subway Club\, Aachener Straße 82-84\, Cologne\, Germany
CATEGORIES:Party
ATTACH;FMTTYPE=image/png:https://riddim.world/wp-content/uploads/2026/04/Screenshot-2026-04-17-104428.png
END:VEVENT
BEGIN:VEVENT
DTSTART;TZID=Europe/Berlin:20290128T170000
DTEND;TZID=Europe/Berlin:20290128T235900
DTSTAMP:20260423T030520
CREATED:20260420T150813Z
LAST-MODIFIED:20260420T150813Z
UID:10000632-1864314000-1864339140@riddim.world
SUMMARY:Kingston Dub Club
DESCRIPTION:Rock Your Soul! Strict­ly Roots! \nEvery sun­day: 5pm — 12 am
URL:https://riddim.world/event/kingston-dub-club/2029-01-28/
LOCATION:Kingston Dub Club\, 7b Skyline Drive\, Kingston\, Kingston 6\, Jamaica
CATEGORIES:Party
ATTACH;FMTTYPE=image/jpeg:https://riddim.world/wp-content/uploads/2026/04/dub-club-real_AH_405DA543-BBB9-3ECB-7B1A546A3C89C2E6-405da4ca0d5d25c_405da7f5-a6af-cfa0-4bf0ddb12c04a735.jpg
END:VEVENT
BEGIN:VEVENT
DTSTART;TZID=Europe/Berlin:20290204T170000
DTEND;TZID=Europe/Berlin:20290204T235900
DTSTAMP:20260423T030520
CREATED:20260420T150813Z
LAST-MODIFIED:20260420T150813Z
UID:10000633-1864918800-1864943940@riddim.world
SUMMARY:Kingston Dub Club
DESCRIPTION:Rock Your Soul! Strict­ly Roots! \nEvery sun­day: 5pm — 12 am
URL:https://riddim.world/event/kingston-dub-club/2029-02-04/
LOCATION:Kingston Dub Club\, 7b Skyline Drive\, Kingston\, Kingston 6\, Jamaica
CATEGORIES:Party
ATTACH;FMTTYPE=image/jpeg:https://riddim.world/wp-content/uploads/2026/04/dub-club-real_AH_405DA543-BBB9-3ECB-7B1A546A3C89C2E6-405da4ca0d5d25c_405da7f5-a6af-cfa0-4bf0ddb12c04a735.jpg
END:VEVENT
BEGIN:VEVENT
DTSTART;TZID=Europe/Berlin:20290211T170000
DTEND;TZID=Europe/Berlin:20290211T235900
DTSTAMP:20260423T030520
CREATED:20260420T150813Z
LAST-MODIFIED:20260420T150813Z
UID:10000634-1865523600-1865548740@riddim.world
SUMMARY:Kingston Dub Club
DESCRIPTION:Rock Your Soul! Strict­ly Roots! \nEvery sun­day: 5pm — 12 am
URL:https://riddim.world/event/kingston-dub-club/2029-02-11/
LOCATION:Kingston Dub Club\, 7b Skyline Drive\, Kingston\, Kingston 6\, Jamaica
CATEGORIES:Party
ATTACH;FMTTYPE=image/jpeg:https://riddim.world/wp-content/uploads/2026/04/dub-club-real_AH_405DA543-BBB9-3ECB-7B1A546A3C89C2E6-405da4ca0d5d25c_405da7f5-a6af-cfa0-4bf0ddb12c04a735.jpg
END:VEVENT
BEGIN:VEVENT
DTSTART;TZID=Europe/Berlin:20290218T170000
DTEND;TZID=Europe/Berlin:20290218T235900
DTSTAMP:20260423T030520
CREATED:20260420T150813Z
LAST-MODIFIED:20260420T150813Z
UID:10000635-1866128400-1866153540@riddim.world
SUMMARY:Kingston Dub Club
DESCRIPTION:Rock Your Soul! Strict­ly Roots! \nEvery sun­day: 5pm — 12 am
URL:https://riddim.world/event/kingston-dub-club/2029-02-18/
LOCATION:Kingston Dub Club\, 7b Skyline Drive\, Kingston\, Kingston 6\, Jamaica
CATEGORIES:Party
ATTACH;FMTTYPE=image/jpeg:https://riddim.world/wp-content/uploads/2026/04/dub-club-real_AH_405DA543-BBB9-3ECB-7B1A546A3C89C2E6-405da4ca0d5d25c_405da7f5-a6af-cfa0-4bf0ddb12c04a735.jpg
END:VEVENT
BEGIN:VEVENT
DTSTART;TZID=Europe/Berlin:20290224T230000
DTEND;TZID=Europe/Berlin:20290225T050000
DTSTAMP:20260423T030520
CREATED:20260417T084523Z
LAST-MODIFIED:20260417T085839Z
UID:10000200-1866668400-1866690000@riddim.world
SUMMARY:ONE - Dancehall x HipHop x Afrobeats @Köln
DESCRIPTION:🌍 HIPHOP x DANCEHALL x AFROBEATS\n6 Years. One night. One fam­i­ly. 💥 #weare­one \n💃🏾 Start: 23:00 Uhr\n🎟️ Tick­ets: 10 € (VVK) | 12 € (AK)\n📍 Club Sub­way\, Aach­en­er Str. 82–84\, Köln \nAktuelle Infos: one.cgn (IG) \nSeit über sechs Jahren bringt ONE die heißesten Vibes aus Dance­hall\, Afrobeats und HipHop in den Club Sub­way.\nOb Dances in den jamaikanis­chen Yards oder Block Par­tys in New York – bei­de verbindet das­selbe: die Com­mu­ni­ty\, die Lei­den­schaft und die Musik. \nHipHop hat sich über die Jahre zum dom­i­nan­ten Genre entwick­elt\, doch seine Wurzeln liegen tief in Jamai­ka und sein­er Kul­tur. Deshalb ist es für uns nur logisch\, bei­des auf ein­er Par­ty zusam­men­zubrin­gen:\nZwei Styles\, die sich immer wieder gegen­seit­ig inspiri­eren – und trotz­dem eins sind. \n💬 GIVE RESPECT\, GET RESPECT.\n🚫 No place for sex­ism\, racism\, vio­lence & hate. \n#ONEVibes #HipHop­Dance­hal­lAfrobeats #Colog­neNights #Sub­way­Cologne #Dance­hall­Cul­ture #Afrobeat­sToThe­World #HipHo­pLovers #Good­VibesOn­ly #CologneEvents #PartyAlert
URL:https://riddim.world/event/one-dancehall-x-hiphop-x-afrobeats-koeln/2029-02-24/
LOCATION:Subway Club\, Aachener Straße 82-84\, Cologne\, Germany
CATEGORIES:Party
ATTACH;FMTTYPE=image/png:https://riddim.world/wp-content/uploads/2026/04/Screenshot-2026-04-17-104428.png
END:VEVENT
BEGIN:VEVENT
DTSTART;TZID=Europe/Berlin:20290225T170000
DTEND;TZID=Europe/Berlin:20290225T235900
DTSTAMP:20260423T030520
CREATED:20260420T150813Z
LAST-MODIFIED:20260420T150813Z
UID:10000636-1866733200-1866758340@riddim.world
SUMMARY:Kingston Dub Club
DESCRIPTION:Rock Your Soul! Strict­ly Roots! \nEvery sun­day: 5pm — 12 am
URL:https://riddim.world/event/kingston-dub-club/2029-02-25/
LOCATION:Kingston Dub Club\, 7b Skyline Drive\, Kingston\, Kingston 6\, Jamaica
CATEGORIES:Party
ATTACH;FMTTYPE=image/jpeg:https://riddim.world/wp-content/uploads/2026/04/dub-club-real_AH_405DA543-BBB9-3ECB-7B1A546A3C89C2E6-405da4ca0d5d25c_405da7f5-a6af-cfa0-4bf0ddb12c04a735.jpg
END:VEVENT
BEGIN:VEVENT
DTSTART;TZID=Europe/Berlin:20290304T170000
DTEND;TZID=Europe/Berlin:20290304T235900
DTSTAMP:20260423T030520
CREATED:20260420T150813Z
LAST-MODIFIED:20260420T150813Z
UID:10000637-1867338000-1867363140@riddim.world
SUMMARY:Kingston Dub Club
DESCRIPTION:Rock Your Soul! Strict­ly Roots! \nEvery sun­day: 5pm — 12 am
URL:https://riddim.world/event/kingston-dub-club/2029-03-04/
LOCATION:Kingston Dub Club\, 7b Skyline Drive\, Kingston\, Kingston 6\, Jamaica
CATEGORIES:Party
ATTACH;FMTTYPE=image/jpeg:https://riddim.world/wp-content/uploads/2026/04/dub-club-real_AH_405DA543-BBB9-3ECB-7B1A546A3C89C2E6-405da4ca0d5d25c_405da7f5-a6af-cfa0-4bf0ddb12c04a735.jpg
END:VEVENT
BEGIN:VEVENT
DTSTART;TZID=Europe/Berlin:20290311T170000
DTEND;TZID=Europe/Berlin:20290311T235900
DTSTAMP:20260423T030520
CREATED:20260420T150813Z
LAST-MODIFIED:20260420T150813Z
UID:10000638-1867942800-1867967940@riddim.world
SUMMARY:Kingston Dub Club
DESCRIPTION:Rock Your Soul! Strict­ly Roots! \nEvery sun­day: 5pm — 12 am
URL:https://riddim.world/event/kingston-dub-club/2029-03-11/
LOCATION:Kingston Dub Club\, 7b Skyline Drive\, Kingston\, Kingston 6\, Jamaica
CATEGORIES:Party
ATTACH;FMTTYPE=image/jpeg:https://riddim.world/wp-content/uploads/2026/04/dub-club-real_AH_405DA543-BBB9-3ECB-7B1A546A3C89C2E6-405da4ca0d5d25c_405da7f5-a6af-cfa0-4bf0ddb12c04a735.jpg
END:VEVENT
BEGIN:VEVENT
DTSTART;TZID=Europe/Berlin:20290318T170000
DTEND;TZID=Europe/Berlin:20290318T235900
DTSTAMP:20260423T030520
CREATED:20260420T150813Z
LAST-MODIFIED:20260420T150813Z
UID:10000639-1868547600-1868572740@riddim.world
SUMMARY:Kingston Dub Club
DESCRIPTION:Rock Your Soul! Strict­ly Roots! \nEvery sun­day: 5pm — 12 am
URL:https://riddim.world/event/kingston-dub-club/2029-03-18/
LOCATION:Kingston Dub Club\, 7b Skyline Drive\, Kingston\, Kingston 6\, Jamaica
CATEGORIES:Party
ATTACH;FMTTYPE=image/jpeg:https://riddim.world/wp-content/uploads/2026/04/dub-club-real_AH_405DA543-BBB9-3ECB-7B1A546A3C89C2E6-405da4ca0d5d25c_405da7f5-a6af-cfa0-4bf0ddb12c04a735.jpg
END:VEVENT
BEGIN:VEVENT
DTSTART;TZID=Europe/Berlin:20290324T230000
DTEND;TZID=Europe/Berlin:20290325T060000
DTSTAMP:20260423T030520
CREATED:20260417T084523Z
LAST-MODIFIED:20260417T085839Z
UID:10000201-1869087600-1869112800@riddim.world
SUMMARY:ONE - Dancehall x HipHop x Afrobeats @Köln
DESCRIPTION:🌍 HIPHOP x DANCEHALL x AFROBEATS\n6 Years. One night. One fam­i­ly. 💥 #weare­one \n💃🏾 Start: 23:00 Uhr\n🎟️ Tick­ets: 10 € (VVK) | 12 € (AK)\n📍 Club Sub­way\, Aach­en­er Str. 82–84\, Köln \nAktuelle Infos: one.cgn (IG) \nSeit über sechs Jahren bringt ONE die heißesten Vibes aus Dance­hall\, Afrobeats und HipHop in den Club Sub­way.\nOb Dances in den jamaikanis­chen Yards oder Block Par­tys in New York – bei­de verbindet das­selbe: die Com­mu­ni­ty\, die Lei­den­schaft und die Musik. \nHipHop hat sich über die Jahre zum dom­i­nan­ten Genre entwick­elt\, doch seine Wurzeln liegen tief in Jamai­ka und sein­er Kul­tur. Deshalb ist es für uns nur logisch\, bei­des auf ein­er Par­ty zusam­men­zubrin­gen:\nZwei Styles\, die sich immer wieder gegen­seit­ig inspiri­eren – und trotz­dem eins sind. \n💬 GIVE RESPECT\, GET RESPECT.\n🚫 No place for sex­ism\, racism\, vio­lence & hate. \n#ONEVibes #HipHop­Dance­hal­lAfrobeats #Colog­neNights #Sub­way­Cologne #Dance­hall­Cul­ture #Afrobeat­sToThe­World #HipHo­pLovers #Good­VibesOn­ly #CologneEvents #PartyAlert
URL:https://riddim.world/event/one-dancehall-x-hiphop-x-afrobeats-koeln/2029-03-24/
LOCATION:Subway Club\, Aachener Straße 82-84\, Cologne\, Germany
CATEGORIES:Party
ATTACH;FMTTYPE=image/png:https://riddim.world/wp-content/uploads/2026/04/Screenshot-2026-04-17-104428.png
END:VEVENT
BEGIN:VEVENT
DTSTART;TZID=Europe/Berlin:20290325T170000
DTEND;TZID=Europe/Berlin:20290325T235900
DTSTAMP:20260423T030520
CREATED:20260420T150813Z
LAST-MODIFIED:20260420T150813Z
UID:10000640-1869152400-1869177540@riddim.world
SUMMARY:Kingston Dub Club
DESCRIPTION:Rock Your Soul! Strict­ly Roots! \nEvery sun­day: 5pm — 12 am
URL:https://riddim.world/event/kingston-dub-club/2029-03-25/
LOCATION:Kingston Dub Club\, 7b Skyline Drive\, Kingston\, Kingston 6\, Jamaica
CATEGORIES:Party
ATTACH;FMTTYPE=image/jpeg:https://riddim.world/wp-content/uploads/2026/04/dub-club-real_AH_405DA543-BBB9-3ECB-7B1A546A3C89C2E6-405da4ca0d5d25c_405da7f5-a6af-cfa0-4bf0ddb12c04a735.jpg
END:VEVENT
END:VCALENDAR